BEGIN:VCALENDAR
VERSION:2.0
PRODID:-//City of Bangor - ECPv6.15.20//NONSGML v1.0//EN
CALSCALE:GREGORIAN
METHOD:PUBLISH
X-ORIGINAL-URL:https://www.cityofbangormi.org
X-WR-CALDESC:Events for City of Bangor
REFRESH-INTERVAL;VALUE=DURATION:PT1H
X-Robots-Tag:noindex
X-PUBLISHED-TTL:PT1H
BEGIN:VTIMEZONE
TZID:America/Detroit
BEGIN:DAYLIGHT
TZOFFSETFROM:-0500
TZOFFSETTO:-0400
TZNAME:EDT
DTSTART:20270314T070000
END:DAYLIGHT
BEGIN:STANDARD
TZOFFSETFROM:-0400
TZOFFSETTO:-0500
TZNAME:EST
DTSTART:20271107T060000
END:STANDARD
BEGIN:DAYLIGHT
TZOFFSETFROM:-0500
TZOFFSETTO:-0400
TZNAME:EDT
DTSTART:20280312T070000
END:DAYLIGHT
BEGIN:STANDARD
TZOFFSETFROM:-0400
TZOFFSETTO:-0500
TZNAME:EST
DTSTART:20281105T060000
END:STANDARD
BEGIN:DAYLIGHT
TZOFFSETFROM:-0500
TZOFFSETTO:-0400
TZNAME:EDT
DTSTART:20290311T070000
END:DAYLIGHT
BEGIN:STANDARD
TZOFFSETFROM:-0400
TZOFFSETTO:-0500
TZNAME:EST
DTSTART:20291104T060000
END:STANDARD
BEGIN:DAYLIGHT
TZOFFSETFROM:-0500
TZOFFSETTO:-0400
TZNAME:EDT
DTSTART:20300310T070000
END:DAYLIGHT
BEGIN:STANDARD
TZOFFSETFROM:-0400
TZOFFSETTO:-0500
TZNAME:EST
DTSTART:20301103T060000
END:STANDARD
END:VTIMEZONE
BEGIN:VEVENT
DTSTART;TZID=America/Detroit:20280717T190000
DTEND;TZID=America/Detroit:20280717T200000
DTSTAMP:20260421T035235
CREATED:20240105T155431Z
LAST-MODIFIED:20240105T160328Z
UID:10000959-1847473200-1847476800@www.cityofbangormi.org
SUMMARY:City Council Meeting
DESCRIPTION:The City Council regularly meets the first and third Monday of each month at 7:00 PM Eastern Time in the Council Room at City Hall\, 257 West Monroe Street\, Bangor\, MI 49013. When Monday falls on a legal holiday meetings are moved to the next day. It is important to check the Calendar to confirm meeting dates\, times\, and details.
URL:https://www.cityofbangormi.org/event/city-council-meeting-2/2028-07-17
LOCATION:Bangor City Hall\, 257 West Monroe Street\, Bangor\, MI\, 49013\, United States
CATEGORIES:City Council Meeting
END:VEVENT
BEGIN:VEVENT
DTSTART;TZID=America/Detroit:20280718T190000
DTEND;TZID=America/Detroit:20280718T200000
DTSTAMP:20260421T035235
CREATED:20240105T160000Z
LAST-MODIFIED:20240105T160000Z
UID:10000918-1847559600-1847563200@www.cityofbangormi.org
SUMMARY:Bangor DDA Meeting
DESCRIPTION:
URL:https://www.cityofbangormi.org/event/bangor-dda-meeting-2-2/2028-07-18
LOCATION:Bangor City Hall\, 257 West Monroe Street\, Bangor\, MI\, 49013\, United States
CATEGORIES:DDA Meeting
END:VEVENT
BEGIN:VEVENT
DTSTART;TZID=America/Detroit:20280807T190000
DTEND;TZID=America/Detroit:20280807T190000
DTSTAMP:20260421T035235
CREATED:20240820T194337Z
LAST-MODIFIED:20240820T194732Z
UID:10001218-1849287600-1849287600@www.cityofbangormi.org
SUMMARY:City Council Meeting
DESCRIPTION:The City Council regularly meets the first and third Monday of each month at 7:00 PM Eastern Time in the Council Room at City Hall\, 257 West Monroe Street\, Bangor\, MI 49013. When Monday falls on a legal holiday meetings are moved to the next day. It is important to check the Calendar to confirm meeting dates\, times\, and details.
URL:https://www.cityofbangormi.org/event/city-council-meeting-3/2028-08-07
LOCATION:Bangor City Hall\, 257 West Monroe Street\, Bangor\, MI\, 49013\, United States
CATEGORIES:City Council Meeting
END:VEVENT
BEGIN:VEVENT
DTSTART;TZID=America/Detroit:20280810T190000
DTEND;TZID=America/Detroit:20280810T200000
DTSTAMP:20260421T035235
CREATED:20240103T210702Z
LAST-MODIFIED:20240105T162852Z
UID:10001016-1849546800-1849550400@www.cityofbangormi.org
SUMMARY:Planning Commission Meeting
DESCRIPTION:
URL:https://www.cityofbangormi.org/event/planning-commission-meeting/2028-08-10
LOCATION:Bangor City Hall\, 257 West Monroe Street\, Bangor\, MI\, 49013\, United States
CATEGORIES:Planning Commission
END:VEVENT
BEGIN:VEVENT
DTSTART;TZID=America/Detroit:20280815T190000
DTEND;TZID=America/Detroit:20280815T200000
DTSTAMP:20260421T035235
CREATED:20240105T160000Z
LAST-MODIFIED:20240105T160000Z
UID:10000919-1849978800-1849982400@www.cityofbangormi.org
SUMMARY:Bangor DDA Meeting
DESCRIPTION:
URL:https://www.cityofbangormi.org/event/bangor-dda-meeting-2-2/2028-08-15
LOCATION:Bangor City Hall\, 257 West Monroe Street\, Bangor\, MI\, 49013\, United States
CATEGORIES:DDA Meeting
END:VEVENT
BEGIN:VEVENT
DTSTART;TZID=America/Detroit:20280821T190000
DTEND;TZID=America/Detroit:20280821T200000
DTSTAMP:20260421T035235
CREATED:20240105T155431Z
LAST-MODIFIED:20240105T160328Z
UID:10000960-1850497200-1850500800@www.cityofbangormi.org
SUMMARY:City Council Meeting
DESCRIPTION:The City Council regularly meets the first and third Monday of each month at 7:00 PM Eastern Time in the Council Room at City Hall\, 257 West Monroe Street\, Bangor\, MI 49013. When Monday falls on a legal holiday meetings are moved to the next day. It is important to check the Calendar to confirm meeting dates\, times\, and details.
URL:https://www.cityofbangormi.org/event/city-council-meeting-2/2028-08-21
LOCATION:Bangor City Hall\, 257 West Monroe Street\, Bangor\, MI\, 49013\, United States
CATEGORIES:City Council Meeting
END:VEVENT
BEGIN:VEVENT
DTSTART;TZID=America/Detroit:20280904T190000
DTEND;TZID=America/Detroit:20280904T190000
DTSTAMP:20260421T035235
CREATED:20240820T194337Z
LAST-MODIFIED:20240820T194732Z
UID:10001219-1851706800-1851706800@www.cityofbangormi.org
SUMMARY:City Council Meeting
DESCRIPTION:The City Council regularly meets the first and third Monday of each month at 7:00 PM Eastern Time in the Council Room at City Hall\, 257 West Monroe Street\, Bangor\, MI 49013. When Monday falls on a legal holiday meetings are moved to the next day. It is important to check the Calendar to confirm meeting dates\, times\, and details.
URL:https://www.cityofbangormi.org/event/city-council-meeting-3/2028-09-04
LOCATION:Bangor City Hall\, 257 West Monroe Street\, Bangor\, MI\, 49013\, United States
CATEGORIES:City Council Meeting
END:VEVENT
BEGIN:VEVENT
DTSTART;TZID=America/Detroit:20280914T190000
DTEND;TZID=America/Detroit:20280914T200000
DTSTAMP:20260421T035235
CREATED:20240103T210702Z
LAST-MODIFIED:20240105T162852Z
UID:10001017-1852570800-1852574400@www.cityofbangormi.org
SUMMARY:Planning Commission Meeting
DESCRIPTION:
URL:https://www.cityofbangormi.org/event/planning-commission-meeting/2028-09-14
LOCATION:Bangor City Hall\, 257 West Monroe Street\, Bangor\, MI\, 49013\, United States
CATEGORIES:Planning Commission
END:VEVENT
BEGIN:VEVENT
DTSTART;TZID=America/Detroit:20280918T190000
DTEND;TZID=America/Detroit:20280918T200000
DTSTAMP:20260421T035235
CREATED:20240105T155431Z
LAST-MODIFIED:20240105T160328Z
UID:10000807-1852916400-1852920000@www.cityofbangormi.org
SUMMARY:City Council Meeting
DESCRIPTION:The City Council regularly meets the first and third Monday of each month at 7:00 PM Eastern Time in the Council Room at City Hall\, 257 West Monroe Street\, Bangor\, MI 49013. When Monday falls on a legal holiday meetings are moved to the next day. It is important to check the Calendar to confirm meeting dates\, times\, and details.
URL:https://www.cityofbangormi.org/event/city-council-meeting-2/2028-09-18
LOCATION:Bangor City Hall\, 257 West Monroe Street\, Bangor\, MI\, 49013\, United States
CATEGORIES:City Council Meeting
END:VEVENT
BEGIN:VEVENT
DTSTART;TZID=America/Detroit:20280919T190000
DTEND;TZID=America/Detroit:20280919T200000
DTSTAMP:20260421T035235
CREATED:20240105T160000Z
LAST-MODIFIED:20240105T160000Z
UID:10000920-1853002800-1853006400@www.cityofbangormi.org
SUMMARY:Bangor DDA Meeting
DESCRIPTION:
URL:https://www.cityofbangormi.org/event/bangor-dda-meeting-2-2/2028-09-19
LOCATION:Bangor City Hall\, 257 West Monroe Street\, Bangor\, MI\, 49013\, United States
CATEGORIES:DDA Meeting
END:VEVENT
BEGIN:VEVENT
DTSTART;TZID=America/Detroit:20281002T190000
DTEND;TZID=America/Detroit:20281002T190000
DTSTAMP:20260421T035235
CREATED:20240820T194337Z
LAST-MODIFIED:20240820T194732Z
UID:10001220-1854126000-1854126000@www.cityofbangormi.org
SUMMARY:City Council Meeting
DESCRIPTION:The City Council regularly meets the first and third Monday of each month at 7:00 PM Eastern Time in the Council Room at City Hall\, 257 West Monroe Street\, Bangor\, MI 49013. When Monday falls on a legal holiday meetings are moved to the next day. It is important to check the Calendar to confirm meeting dates\, times\, and details.
URL:https://www.cityofbangormi.org/event/city-council-meeting-3/2028-10-02
LOCATION:Bangor City Hall\, 257 West Monroe Street\, Bangor\, MI\, 49013\, United States
CATEGORIES:City Council Meeting
END:VEVENT
BEGIN:VEVENT
DTSTART;TZID=America/Detroit:20281012T190000
DTEND;TZID=America/Detroit:20281012T200000
DTSTAMP:20260421T035235
CREATED:20240103T210702Z
LAST-MODIFIED:20240105T162852Z
UID:10001018-1854990000-1854993600@www.cityofbangormi.org
SUMMARY:Planning Commission Meeting
DESCRIPTION:
URL:https://www.cityofbangormi.org/event/planning-commission-meeting/2028-10-12
LOCATION:Bangor City Hall\, 257 West Monroe Street\, Bangor\, MI\, 49013\, United States
CATEGORIES:Planning Commission
END:VEVENT
BEGIN:VEVENT
DTSTART;TZID=America/Detroit:20281016T190000
DTEND;TZID=America/Detroit:20281016T200000
DTSTAMP:20260421T035235
CREATED:20240105T155431Z
LAST-MODIFIED:20240105T160328Z
UID:10000961-1855335600-1855339200@www.cityofbangormi.org
SUMMARY:City Council Meeting
DESCRIPTION:The City Council regularly meets the first and third Monday of each month at 7:00 PM Eastern Time in the Council Room at City Hall\, 257 West Monroe Street\, Bangor\, MI 49013. When Monday falls on a legal holiday meetings are moved to the next day. It is important to check the Calendar to confirm meeting dates\, times\, and details.
URL:https://www.cityofbangormi.org/event/city-council-meeting-2/2028-10-16
LOCATION:Bangor City Hall\, 257 West Monroe Street\, Bangor\, MI\, 49013\, United States
CATEGORIES:City Council Meeting
END:VEVENT
BEGIN:VEVENT
DTSTART;TZID=America/Detroit:20281017T190000
DTEND;TZID=America/Detroit:20281017T200000
DTSTAMP:20260421T035235
CREATED:20240105T160000Z
LAST-MODIFIED:20240105T160000Z
UID:10000921-1855422000-1855425600@www.cityofbangormi.org
SUMMARY:Bangor DDA Meeting
DESCRIPTION:
URL:https://www.cityofbangormi.org/event/bangor-dda-meeting-2-2/2028-10-17
LOCATION:Bangor City Hall\, 257 West Monroe Street\, Bangor\, MI\, 49013\, United States
CATEGORIES:DDA Meeting
END:VEVENT
BEGIN:VEVENT
DTSTART;TZID=America/Detroit:20281106T190000
DTEND;TZID=America/Detroit:20281106T190000
DTSTAMP:20260421T035235
CREATED:20240820T194337Z
LAST-MODIFIED:20240820T194732Z
UID:10001221-1857150000-1857150000@www.cityofbangormi.org
SUMMARY:City Council Meeting
DESCRIPTION:The City Council regularly meets the first and third Monday of each month at 7:00 PM Eastern Time in the Council Room at City Hall\, 257 West Monroe Street\, Bangor\, MI 49013. When Monday falls on a legal holiday meetings are moved to the next day. It is important to check the Calendar to confirm meeting dates\, times\, and details.
URL:https://www.cityofbangormi.org/event/city-council-meeting-3/2028-11-06
LOCATION:Bangor City Hall\, 257 West Monroe Street\, Bangor\, MI\, 49013\, United States
CATEGORIES:City Council Meeting
END:VEVENT
BEGIN:VEVENT
DTSTART;TZID=America/Detroit:20281109T190000
DTEND;TZID=America/Detroit:20281109T200000
DTSTAMP:20260421T035235
CREATED:20240103T210702Z
LAST-MODIFIED:20240105T162852Z
UID:10001019-1857409200-1857412800@www.cityofbangormi.org
SUMMARY:Planning Commission Meeting
DESCRIPTION:
URL:https://www.cityofbangormi.org/event/planning-commission-meeting/2028-11-09
LOCATION:Bangor City Hall\, 257 West Monroe Street\, Bangor\, MI\, 49013\, United States
CATEGORIES:Planning Commission
END:VEVENT
BEGIN:VEVENT
DTSTART;TZID=America/Detroit:20281120T190000
DTEND;TZID=America/Detroit:20281120T200000
DTSTAMP:20260421T035235
CREATED:20240105T155431Z
LAST-MODIFIED:20240105T160328Z
UID:10000962-1858359600-1858363200@www.cityofbangormi.org
SUMMARY:City Council Meeting
DESCRIPTION:The City Council regularly meets the first and third Monday of each month at 7:00 PM Eastern Time in the Council Room at City Hall\, 257 West Monroe Street\, Bangor\, MI 49013. When Monday falls on a legal holiday meetings are moved to the next day. It is important to check the Calendar to confirm meeting dates\, times\, and details.
URL:https://www.cityofbangormi.org/event/city-council-meeting-2/2028-11-20
LOCATION:Bangor City Hall\, 257 West Monroe Street\, Bangor\, MI\, 49013\, United States
CATEGORIES:City Council Meeting
END:VEVENT
BEGIN:VEVENT
DTSTART;TZID=America/Detroit:20281121T190000
DTEND;TZID=America/Detroit:20281121T200000
DTSTAMP:20260421T035235
CREATED:20240105T160000Z
LAST-MODIFIED:20240105T160000Z
UID:10000922-1858446000-1858449600@www.cityofbangormi.org
SUMMARY:Bangor DDA Meeting
DESCRIPTION:
URL:https://www.cityofbangormi.org/event/bangor-dda-meeting-2-2/2028-11-21
LOCATION:Bangor City Hall\, 257 West Monroe Street\, Bangor\, MI\, 49013\, United States
CATEGORIES:DDA Meeting
END:VEVENT
BEGIN:VEVENT
DTSTART;TZID=America/Detroit:20281204T190000
DTEND;TZID=America/Detroit:20281204T190000
DTSTAMP:20260421T035235
CREATED:20240820T194337Z
LAST-MODIFIED:20240820T194732Z
UID:10001222-1859569200-1859569200@www.cityofbangormi.org
SUMMARY:City Council Meeting
DESCRIPTION:The City Council regularly meets the first and third Monday of each month at 7:00 PM Eastern Time in the Council Room at City Hall\, 257 West Monroe Street\, Bangor\, MI 49013. When Monday falls on a legal holiday meetings are moved to the next day. It is important to check the Calendar to confirm meeting dates\, times\, and details.
URL:https://www.cityofbangormi.org/event/city-council-meeting-3/2028-12-04
LOCATION:Bangor City Hall\, 257 West Monroe Street\, Bangor\, MI\, 49013\, United States
CATEGORIES:City Council Meeting
END:VEVENT
BEGIN:VEVENT
DTSTART;TZID=America/Detroit:20281214T190000
DTEND;TZID=America/Detroit:20281214T200000
DTSTAMP:20260421T035235
CREATED:20240103T210702Z
LAST-MODIFIED:20240105T162852Z
UID:10001020-1860433200-1860436800@www.cityofbangormi.org
SUMMARY:Planning Commission Meeting
DESCRIPTION:
URL:https://www.cityofbangormi.org/event/planning-commission-meeting/2028-12-14
LOCATION:Bangor City Hall\, 257 West Monroe Street\, Bangor\, MI\, 49013\, United States
CATEGORIES:Planning Commission
END:VEVENT
BEGIN:VEVENT
DTSTART;TZID=America/Detroit:20281218T190000
DTEND;TZID=America/Detroit:20281218T200000
DTSTAMP:20260421T035235
CREATED:20240105T155431Z
LAST-MODIFIED:20240105T160328Z
UID:10000808-1860778800-1860782400@www.cityofbangormi.org
SUMMARY:City Council Meeting
DESCRIPTION:The City Council regularly meets the first and third Monday of each month at 7:00 PM Eastern Time in the Council Room at City Hall\, 257 West Monroe Street\, Bangor\, MI 49013. When Monday falls on a legal holiday meetings are moved to the next day. It is important to check the Calendar to confirm meeting dates\, times\, and details.
URL:https://www.cityofbangormi.org/event/city-council-meeting-2/2028-12-18
LOCATION:Bangor City Hall\, 257 West Monroe Street\, Bangor\, MI\, 49013\, United States
CATEGORIES:City Council Meeting
END:VEVENT
BEGIN:VEVENT
DTSTART;TZID=America/Detroit:20281219T190000
DTEND;TZID=America/Detroit:20281219T200000
DTSTAMP:20260421T035235
CREATED:20240105T160000Z
LAST-MODIFIED:20240105T160000Z
UID:10000923-1860865200-1860868800@www.cityofbangormi.org
SUMMARY:Bangor DDA Meeting
DESCRIPTION:
URL:https://www.cityofbangormi.org/event/bangor-dda-meeting-2-2/2028-12-19
LOCATION:Bangor City Hall\, 257 West Monroe Street\, Bangor\, MI\, 49013\, United States
CATEGORIES:DDA Meeting
END:VEVENT
BEGIN:VEVENT
DTSTART;TZID=America/Detroit:20290101T190000
DTEND;TZID=America/Detroit:20290101T190000
DTSTAMP:20260421T035235
CREATED:20240820T194337Z
LAST-MODIFIED:20240820T194732Z
UID:10001223-1861988400-1861988400@www.cityofbangormi.org
SUMMARY:City Council Meeting
DESCRIPTION:The City Council regularly meets the first and third Monday of each month at 7:00 PM Eastern Time in the Council Room at City Hall\, 257 West Monroe Street\, Bangor\, MI 49013. When Monday falls on a legal holiday meetings are moved to the next day. It is important to check the Calendar to confirm meeting dates\, times\, and details.
URL:https://www.cityofbangormi.org/event/city-council-meeting-3/2029-01-01
LOCATION:Bangor City Hall\, 257 West Monroe Street\, Bangor\, MI\, 49013\, United States
CATEGORIES:City Council Meeting
END:VEVENT
BEGIN:VEVENT
DTSTART;TZID=America/Detroit:20290111T190000
DTEND;TZID=America/Detroit:20290111T200000
DTSTAMP:20260421T035235
CREATED:20240103T210702Z
LAST-MODIFIED:20240105T162852Z
UID:10001093-1862852400-1862856000@www.cityofbangormi.org
SUMMARY:Planning Commission Meeting
DESCRIPTION:
URL:https://www.cityofbangormi.org/event/planning-commission-meeting/2029-01-11
LOCATION:Bangor City Hall\, 257 West Monroe Street\, Bangor\, MI\, 49013\, United States
CATEGORIES:Planning Commission
END:VEVENT
BEGIN:VEVENT
DTSTART;TZID=America/Detroit:20290116T190000
DTEND;TZID=America/Detroit:20290116T200000
DTSTAMP:20260421T035235
CREATED:20240105T160000Z
LAST-MODIFIED:20240105T160000Z
UID:10001353-1863284400-1863288000@www.cityofbangormi.org
SUMMARY:Bangor DDA Meeting
DESCRIPTION:
URL:https://www.cityofbangormi.org/event/bangor-dda-meeting-2-2/2029-01-16
LOCATION:Bangor City Hall\, 257 West Monroe Street\, Bangor\, MI\, 49013\, United States
CATEGORIES:DDA Meeting
END:VEVENT
BEGIN:VEVENT
DTSTART;TZID=America/Detroit:20290205T190000
DTEND;TZID=America/Detroit:20290205T190000
DTSTAMP:20260421T035235
CREATED:20240820T194337Z
LAST-MODIFIED:20240820T194732Z
UID:10001224-1865012400-1865012400@www.cityofbangormi.org
SUMMARY:City Council Meeting
DESCRIPTION:The City Council regularly meets the first and third Monday of each month at 7:00 PM Eastern Time in the Council Room at City Hall\, 257 West Monroe Street\, Bangor\, MI 49013. When Monday falls on a legal holiday meetings are moved to the next day. It is important to check the Calendar to confirm meeting dates\, times\, and details.
URL:https://www.cityofbangormi.org/event/city-council-meeting-3/2029-02-05
LOCATION:Bangor City Hall\, 257 West Monroe Street\, Bangor\, MI\, 49013\, United States
CATEGORIES:City Council Meeting
END:VEVENT
BEGIN:VEVENT
DTSTART;TZID=America/Detroit:20290208T190000
DTEND;TZID=America/Detroit:20290208T200000
DTSTAMP:20260421T035235
CREATED:20240103T210702Z
LAST-MODIFIED:20240105T162852Z
UID:10001094-1865271600-1865275200@www.cityofbangormi.org
SUMMARY:Planning Commission Meeting
DESCRIPTION:
URL:https://www.cityofbangormi.org/event/planning-commission-meeting/2029-02-08
LOCATION:Bangor City Hall\, 257 West Monroe Street\, Bangor\, MI\, 49013\, United States
CATEGORIES:Planning Commission
END:VEVENT
BEGIN:VEVENT
DTSTART;TZID=America/Detroit:20290220T190000
DTEND;TZID=America/Detroit:20290220T200000
DTSTAMP:20260421T035235
CREATED:20240105T160000Z
LAST-MODIFIED:20240105T160000Z
UID:10001354-1866308400-1866312000@www.cityofbangormi.org
SUMMARY:Bangor DDA Meeting
DESCRIPTION:
URL:https://www.cityofbangormi.org/event/bangor-dda-meeting-2-2/2029-02-20
LOCATION:Bangor City Hall\, 257 West Monroe Street\, Bangor\, MI\, 49013\, United States
CATEGORIES:DDA Meeting
END:VEVENT
BEGIN:VEVENT
DTSTART;TZID=America/Detroit:20290305T190000
DTEND;TZID=America/Detroit:20290305T190000
DTSTAMP:20260421T035235
CREATED:20240820T194337Z
LAST-MODIFIED:20240820T194732Z
UID:10001225-1867431600-1867431600@www.cityofbangormi.org
SUMMARY:City Council Meeting
DESCRIPTION:The City Council regularly meets the first and third Monday of each month at 7:00 PM Eastern Time in the Council Room at City Hall\, 257 West Monroe Street\, Bangor\, MI 49013. When Monday falls on a legal holiday meetings are moved to the next day. It is important to check the Calendar to confirm meeting dates\, times\, and details.
URL:https://www.cityofbangormi.org/event/city-council-meeting-3/2029-03-05
LOCATION:Bangor City Hall\, 257 West Monroe Street\, Bangor\, MI\, 49013\, United States
CATEGORIES:City Council Meeting
END:VEVENT
BEGIN:VEVENT
DTSTART;TZID=America/Detroit:20290308T190000
DTEND;TZID=America/Detroit:20290308T200000
DTSTAMP:20260421T035235
CREATED:20240103T210702Z
LAST-MODIFIED:20240105T162852Z
UID:10001095-1867690800-1867694400@www.cityofbangormi.org
SUMMARY:Planning Commission Meeting
DESCRIPTION:
URL:https://www.cityofbangormi.org/event/planning-commission-meeting/2029-03-08
LOCATION:Bangor City Hall\, 257 West Monroe Street\, Bangor\, MI\, 49013\, United States
CATEGORIES:Planning Commission
END:VEVENT
END:VCALENDAR