BEGIN:VCALENDAR
VERSION:2.0
PRODID:-//City of Bangor - ECPv6.15.20//NONSGML v1.0//EN
CALSCALE:GREGORIAN
METHOD:PUBLISH
X-WR-CALNAME:City of Bangor
X-ORIGINAL-URL:https://www.cityofbangormi.org
X-WR-CALDESC:Events for City of Bangor
REFRESH-INTERVAL;VALUE=DURATION:PT1H
X-Robots-Tag:noindex
X-PUBLISHED-TTL:PT1H
BEGIN:VTIMEZONE
TZID:America/Detroit
BEGIN:DAYLIGHT
TZOFFSETFROM:-0500
TZOFFSETTO:-0400
TZNAME:EDT
DTSTART:20240310T070000
END:DAYLIGHT
BEGIN:STANDARD
TZOFFSETFROM:-0400
TZOFFSETTO:-0500
TZNAME:EST
DTSTART:20241103T060000
END:STANDARD
BEGIN:DAYLIGHT
TZOFFSETFROM:-0500
TZOFFSETTO:-0400
TZNAME:EDT
DTSTART:20250309T070000
END:DAYLIGHT
BEGIN:STANDARD
TZOFFSETFROM:-0400
TZOFFSETTO:-0500
TZNAME:EST
DTSTART:20251102T060000
END:STANDARD
BEGIN:DAYLIGHT
TZOFFSETFROM:-0500
TZOFFSETTO:-0400
TZNAME:EDT
DTSTART:20260308T070000
END:DAYLIGHT
BEGIN:STANDARD
TZOFFSETFROM:-0400
TZOFFSETTO:-0500
TZNAME:EST
DTSTART:20261101T060000
END:STANDARD
END:VTIMEZONE
BEGIN:VEVENT
DTSTART;VALUE=DATE:20250901
DTEND;VALUE=DATE:20250902
DTSTAMP:20260420T232329
CREATED:20250820T184536Z
LAST-MODIFIED:20250820T184536Z
UID:10001331-1756684800-1756771199@www.cityofbangormi.org
SUMMARY:City Hall Closed
DESCRIPTION:
URL:https://www.cityofbangormi.org/event/city-hall-closed-3
CATEGORIES:City Hall - Observed Days Off
END:VEVENT
BEGIN:VEVENT
DTSTART;TZID=America/Detroit:20250902T190000
DTEND;TZID=America/Detroit:20250902T200000
DTSTAMP:20260420T232329
CREATED:20250807T175835Z
LAST-MODIFIED:20250807T175835Z
UID:10001325-1756839600-1756843200@www.cityofbangormi.org
SUMMARY:City Council Meeting
DESCRIPTION:
URL:https://www.cityofbangormi.org/event/city-council-meeting-5
LOCATION:Bangor City Hall\, 257 West Monroe Street\, Bangor\, MI\, 49013\, United States
CATEGORIES:City Council Meeting
END:VEVENT
BEGIN:VEVENT
DTSTART;TZID=America/Detroit:20250903T190000
DTEND;TZID=America/Detroit:20250903T203000
DTSTAMP:20260420T232329
CREATED:20250827T152929Z
LAST-MODIFIED:20250827T153036Z
UID:10001332-1756926000-1756931400@www.cityofbangormi.org
SUMMARY:Special City Council Meeting
DESCRIPTION:
URL:https://www.cityofbangormi.org/event/special-city-council-meeting-2
CATEGORIES:City Council Meeting
END:VEVENT
BEGIN:VEVENT
DTSTART;TZID=America/Detroit:20250904T190000
DTEND;TZID=America/Detroit:20250904T203000
DTSTAMP:20260420T232329
CREATED:20250827T153142Z
LAST-MODIFIED:20250827T153207Z
UID:10001333-1757012400-1757017800@www.cityofbangormi.org
SUMMARY:Special City Council Meeting
DESCRIPTION:
URL:https://www.cityofbangormi.org/event/special-city-council-meeting-3
CATEGORIES:City Council Meeting
END:VEVENT
BEGIN:VEVENT
DTSTART;TZID=America/Detroit:20250908T193000
DTEND;TZID=America/Detroit:20250908T203000
DTSTAMP:20260420T232329
CREATED:20250404T180006Z
LAST-MODIFIED:20251204T181125Z
UID:10001451-1757359800-1757363400@www.cityofbangormi.org
SUMMARY:A.B.B. Joint Fire Board Meeting - 417  W Arlington St
DESCRIPTION:
URL:https://www.cityofbangormi.org/event/a-b-b-joint-fire-board-meeting-417-w-arlington-st/2025-09-08
LOCATION:Bangor Fire Department\, 417 W Arlington St\, Bangor\, 49013\, United States
CATEGORIES:Fire Board
END:VEVENT
BEGIN:VEVENT
DTSTART;TZID=America/Detroit:20250915T190000
DTEND;TZID=America/Detroit:20250915T200000
DTSTAMP:20260420T232329
CREATED:20240105T155431Z
LAST-MODIFIED:20240105T160328Z
UID:10000795-1757962800-1757966400@www.cityofbangormi.org
SUMMARY:City Council Meeting
DESCRIPTION:The City Council regularly meets the first and third Monday of each month at 7:00 PM Eastern Time in the Council Room at City Hall\, 257 West Monroe Street\, Bangor\, MI 49013. When Monday falls on a legal holiday meetings are moved to the next day. It is important to check the Calendar to confirm meeting dates\, times\, and details.
URL:https://www.cityofbangormi.org/event/city-council-meeting-2/2025-09-15
LOCATION:Bangor City Hall\, 257 West Monroe Street\, Bangor\, MI\, 49013\, United States
CATEGORIES:City Council Meeting
END:VEVENT
BEGIN:VEVENT
DTSTART;TZID=America/Detroit:20250916T190000
DTEND;TZID=America/Detroit:20250916T200000
DTSTAMP:20260420T232329
CREATED:20240105T160000Z
LAST-MODIFIED:20240105T160000Z
UID:10000884-1758049200-1758052800@www.cityofbangormi.org
SUMMARY:Bangor DDA Meeting
DESCRIPTION:
URL:https://www.cityofbangormi.org/event/bangor-dda-meeting-2-2/2025-09-16
LOCATION:Bangor City Hall\, 257 West Monroe Street\, Bangor\, MI\, 49013\, United States
CATEGORIES:DDA Meeting
END:VEVENT
BEGIN:VEVENT
DTSTART;TZID=America/Detroit:20250918T180000
DTEND;TZID=America/Detroit:20250918T190000
DTSTAMP:20260420T232329
CREATED:20231026T191646Z
LAST-MODIFIED:20240126T134422Z
UID:10001046-1758218400-1758222000@www.cityofbangormi.org
SUMMARY:Bangor Housing Commission Meeting
DESCRIPTION:
URL:https://www.cityofbangormi.org/event/bangor-housing-commission-meeting/2025-09-18
LOCATION:Bangor Housing\, 820 Second Street\, Bangor\, MI\, 49013\, United States
CATEGORIES:Housing Commission Meeting
END:VEVENT
BEGIN:VEVENT
DTSTART;TZID=America/Detroit:20250922T190000
DTEND;TZID=America/Detroit:20250922T200000
DTSTAMP:20260420T232329
CREATED:20250807T180704Z
LAST-MODIFIED:20250807T180704Z
UID:10001328-1758567600-1758571200@www.cityofbangormi.org
SUMMARY:Cemetery Committee Meeting
DESCRIPTION:
URL:https://www.cityofbangormi.org/event/cemetery-committee-meeting-2
LOCATION:Bangor Fire Department\, 417 W Arlington St\, Bangor\, 49013\, United States
CATEGORIES:Cemetery Committee Meeting
END:VEVENT
END:VCALENDAR