BEGIN:VCALENDAR
VERSION:2.0
PRODID:-//City of Bangor - ECPv6.15.20//NONSGML v1.0//EN
CALSCALE:GREGORIAN
METHOD:PUBLISH
X-WR-CALNAME:City of Bangor
X-ORIGINAL-URL:https://www.cityofbangormi.org
X-WR-CALDESC:Events for City of Bangor
REFRESH-INTERVAL;VALUE=DURATION:PT1H
X-Robots-Tag:noindex
X-PUBLISHED-TTL:PT1H
BEGIN:VTIMEZONE
TZID:America/Detroit
BEGIN:DAYLIGHT
TZOFFSETFROM:-0500
TZOFFSETTO:-0400
TZNAME:EDT
DTSTART:20240310T070000
END:DAYLIGHT
BEGIN:STANDARD
TZOFFSETFROM:-0400
TZOFFSETTO:-0500
TZNAME:EST
DTSTART:20241103T060000
END:STANDARD
BEGIN:DAYLIGHT
TZOFFSETFROM:-0500
TZOFFSETTO:-0400
TZNAME:EDT
DTSTART:20250309T070000
END:DAYLIGHT
BEGIN:STANDARD
TZOFFSETFROM:-0400
TZOFFSETTO:-0500
TZNAME:EST
DTSTART:20251102T060000
END:STANDARD
BEGIN:DAYLIGHT
TZOFFSETFROM:-0500
TZOFFSETTO:-0400
TZNAME:EDT
DTSTART:20260308T070000
END:DAYLIGHT
BEGIN:STANDARD
TZOFFSETFROM:-0400
TZOFFSETTO:-0500
TZNAME:EST
DTSTART:20261101T060000
END:STANDARD
END:VTIMEZONE
BEGIN:VEVENT
DTSTART;TZID=America/Detroit:20250602T190000
DTEND;TZID=America/Detroit:20250602T190000
DTSTAMP:20260421T051245
CREATED:20240820T194337Z
LAST-MODIFIED:20240820T194732Z
UID:10001180-1748890800-1748890800@www.cityofbangormi.org
SUMMARY:City Council Meeting
DESCRIPTION:The City Council regularly meets the first and third Monday of each month at 7:00 PM Eastern Time in the Council Room at City Hall\, 257 West Monroe Street\, Bangor\, MI 49013. When Monday falls on a legal holiday meetings are moved to the next day. It is important to check the Calendar to confirm meeting dates\, times\, and details.
URL:https://www.cityofbangormi.org/event/city-council-meeting-3/2025-06-02
LOCATION:Bangor City Hall\, 257 West Monroe Street\, Bangor\, MI\, 49013\, United States
CATEGORIES:City Council Meeting
END:VEVENT
BEGIN:VEVENT
DTSTART;TZID=America/Detroit:20250612T180000
DTEND;TZID=America/Detroit:20250612T190000
DTSTAMP:20260421T051245
CREATED:20250602T181852Z
LAST-MODIFIED:20250602T181852Z
UID:10001300-1749751200-1749754800@www.cityofbangormi.org
SUMMARY:EDC Regular Meeting
DESCRIPTION:This meeting has been rescheduled from Thursday 06/19/25 at 6PM
URL:https://www.cityofbangormi.org/event/edc-regular-meeting-3
LOCATION:Bangor City Hall\, 257 West Monroe Street\, Bangor\, MI\, 49013\, United States
CATEGORIES:EDC Meeting
END:VEVENT
BEGIN:VEVENT
DTSTART;TZID=America/Detroit:20250612T190000
DTEND;TZID=America/Detroit:20250612T200000
DTSTAMP:20260421T051245
CREATED:20240103T210702Z
LAST-MODIFIED:20240105T162852Z
UID:10000978-1749754800-1749758400@www.cityofbangormi.org
SUMMARY:Planning Commission Meeting
DESCRIPTION:
URL:https://www.cityofbangormi.org/event/planning-commission-meeting/2025-06-12
LOCATION:Bangor City Hall\, 257 West Monroe Street\, Bangor\, MI\, 49013\, United States
CATEGORIES:Planning Commission
END:VEVENT
BEGIN:VEVENT
DTSTART;TZID=America/Detroit:20250616T190000
DTEND;TZID=America/Detroit:20250616T200000
DTSTAMP:20260421T051245
CREATED:20240105T155431Z
LAST-MODIFIED:20240105T160328Z
UID:10000794-1750100400-1750104000@www.cityofbangormi.org
SUMMARY:City Council Meeting
DESCRIPTION:The City Council regularly meets the first and third Monday of each month at 7:00 PM Eastern Time in the Council Room at City Hall\, 257 West Monroe Street\, Bangor\, MI 49013. When Monday falls on a legal holiday meetings are moved to the next day. It is important to check the Calendar to confirm meeting dates\, times\, and details.
URL:https://www.cityofbangormi.org/event/city-council-meeting-2/2025-06-16
LOCATION:Bangor City Hall\, 257 West Monroe Street\, Bangor\, MI\, 49013\, United States
CATEGORIES:City Council Meeting
END:VEVENT
BEGIN:VEVENT
DTSTART;TZID=America/Detroit:20250617T190000
DTEND;TZID=America/Detroit:20250617T200000
DTSTAMP:20260421T051245
CREATED:20240105T160000Z
LAST-MODIFIED:20240105T160000Z
UID:10000881-1750186800-1750190400@www.cityofbangormi.org
SUMMARY:Bangor DDA Meeting
DESCRIPTION:
URL:https://www.cityofbangormi.org/event/bangor-dda-meeting-2-2/2025-06-17
LOCATION:Bangor City Hall\, 257 West Monroe Street\, Bangor\, MI\, 49013\, United States
CATEGORIES:DDA Meeting
END:VEVENT
BEGIN:VEVENT
DTSTART;VALUE=DATE:20250619
DTEND;VALUE=DATE:20250620
DTSTAMP:20260421T051245
CREATED:20250602T181956Z
LAST-MODIFIED:20250602T181956Z
UID:10001301-1750291200-1750377599@www.cityofbangormi.org
SUMMARY:Closed in Observance of Juneteenth
DESCRIPTION:
URL:https://www.cityofbangormi.org/event/closed-in-observance-of-juneteenth
CATEGORIES:City Hall - Observed Days Off
END:VEVENT
BEGIN:VEVENT
DTSTART;TZID=America/Detroit:20250619T180000
DTEND;TZID=America/Detroit:20250619T190000
DTSTAMP:20260421T051245
CREATED:20231026T191646Z
LAST-MODIFIED:20240126T134422Z
UID:10001043-1750356000-1750359600@www.cityofbangormi.org
SUMMARY:Bangor Housing Commission Meeting
DESCRIPTION:
URL:https://www.cityofbangormi.org/event/bangor-housing-commission-meeting/2025-06-19
LOCATION:Bangor Housing\, 820 Second Street\, Bangor\, MI\, 49013\, United States
CATEGORIES:Housing Commission Meeting
END:VEVENT
BEGIN:VEVENT
DTSTART;TZID=America/Detroit:20250623T190000
DTEND;TZID=America/Detroit:20250623T200000
DTSTAMP:20260421T051245
CREATED:20250616T190955Z
LAST-MODIFIED:20250616T190955Z
UID:10001306-1750705200-1750708800@www.cityofbangormi.org
SUMMARY:Cemetery Committee Regular Meeting
DESCRIPTION:
URL:https://www.cityofbangormi.org/event/cemetery-committee-regular-meeting
CATEGORIES:Cemetery Committee Meeting
END:VEVENT
BEGIN:VEVENT
DTSTART;TZID=America/Detroit:20250623T190000
DTEND;TZID=America/Detroit:20250623T203000
DTSTAMP:20260421T051245
CREATED:20250404T180359Z
LAST-MODIFIED:20250404T180409Z
UID:10001268-1750705200-1750710600@www.cityofbangormi.org
SUMMARY:A.B.B. Joint Fire Board Meeting - 417  W Arlington St
DESCRIPTION:
URL:https://www.cityofbangormi.org/event/a-b-b-joint-fire-board-meeting-417-w-arlington-st-2
LOCATION:Bangor Fire Department\, 417 W Arlington St\, Bangor\, 49013\, United States
CATEGORIES:Fire Board
END:VEVENT
END:VCALENDAR