BEGIN:VCALENDAR
VERSION:2.0
PRODID:-//City of Bangor - ECPv6.15.20//NONSGML v1.0//EN
CALSCALE:GREGORIAN
METHOD:PUBLISH
X-WR-CALNAME:City of Bangor
X-ORIGINAL-URL:https://www.cityofbangormi.org
X-WR-CALDESC:Events for City of Bangor
REFRESH-INTERVAL;VALUE=DURATION:PT1H
X-Robots-Tag:noindex
X-PUBLISHED-TTL:PT1H
BEGIN:VTIMEZONE
TZID:America/Detroit
BEGIN:DAYLIGHT
TZOFFSETFROM:-0500
TZOFFSETTO:-0400
TZNAME:EDT
DTSTART:20240310T070000
END:DAYLIGHT
BEGIN:STANDARD
TZOFFSETFROM:-0400
TZOFFSETTO:-0500
TZNAME:EST
DTSTART:20241103T060000
END:STANDARD
BEGIN:DAYLIGHT
TZOFFSETFROM:-0500
TZOFFSETTO:-0400
TZNAME:EDT
DTSTART:20250309T070000
END:DAYLIGHT
BEGIN:STANDARD
TZOFFSETFROM:-0400
TZOFFSETTO:-0500
TZNAME:EST
DTSTART:20251102T060000
END:STANDARD
BEGIN:DAYLIGHT
TZOFFSETFROM:-0500
TZOFFSETTO:-0400
TZNAME:EDT
DTSTART:20260308T070000
END:DAYLIGHT
BEGIN:STANDARD
TZOFFSETFROM:-0400
TZOFFSETTO:-0500
TZNAME:EST
DTSTART:20261101T060000
END:STANDARD
END:VTIMEZONE
BEGIN:VEVENT
DTSTART;TZID=America/Detroit:20250505T190000
DTEND;TZID=America/Detroit:20250505T190000
DTSTAMP:20260421T075912
CREATED:20240820T194337Z
LAST-MODIFIED:20240820T194732Z
UID:10001179-1746471600-1746471600@www.cityofbangormi.org
SUMMARY:City Council Meeting
DESCRIPTION:The City Council regularly meets the first and third Monday of each month at 7:00 PM Eastern Time in the Council Room at City Hall\, 257 West Monroe Street\, Bangor\, MI 49013. When Monday falls on a legal holiday meetings are moved to the next day. It is important to check the Calendar to confirm meeting dates\, times\, and details.
URL:https://www.cityofbangormi.org/event/city-council-meeting-3/2025-05-05
LOCATION:Bangor City Hall\, 257 West Monroe Street\, Bangor\, MI\, 49013\, United States
CATEGORIES:City Council Meeting
END:VEVENT
BEGIN:VEVENT
DTSTART;TZID=America/Detroit:20250506T070000
DTEND;TZID=America/Detroit:20250506T200000
DTSTAMP:20260421T075912
CREATED:20250512T144447Z
LAST-MODIFIED:20250512T144447Z
UID:10001296-1746514800-1746561600@www.cityofbangormi.org
SUMMARY:Local General Election
DESCRIPTION:
URL:https://www.cityofbangormi.org/event/local-general-election
CATEGORIES:Elections
END:VEVENT
BEGIN:VEVENT
DTSTART;TZID=America/Detroit:20250508T190000
DTEND;TZID=America/Detroit:20250508T200000
DTSTAMP:20260421T075912
CREATED:20240103T210702Z
LAST-MODIFIED:20240105T162852Z
UID:10000977-1746730800-1746734400@www.cityofbangormi.org
SUMMARY:Planning Commission Meeting
DESCRIPTION:
URL:https://www.cityofbangormi.org/event/planning-commission-meeting/2025-05-08
LOCATION:Bangor City Hall\, 257 West Monroe Street\, Bangor\, MI\, 49013\, United States
CATEGORIES:Planning Commission
END:VEVENT
BEGIN:VEVENT
DTSTART;TZID=America/Detroit:20250512T150000
DTEND;TZID=America/Detroit:20250512T163000
DTSTAMP:20260421T075912
CREATED:20250512T144351Z
LAST-MODIFIED:20250512T144351Z
UID:10001295-1747062000-1747067400@www.cityofbangormi.org
SUMMARY:City Council Budget Workshop #3/Final
DESCRIPTION:
URL:https://www.cityofbangormi.org/event/city-council-budget-workshop-3-final
CATEGORIES:City Council Meeting
END:VEVENT
BEGIN:VEVENT
DTSTART;TZID=America/Detroit:20250512T193000
DTEND;TZID=America/Detroit:20250512T203000
DTSTAMP:20260421T075912
CREATED:20250404T180006Z
LAST-MODIFIED:20251204T181125Z
UID:10001448-1747078200-1747081800@www.cityofbangormi.org
SUMMARY:A.B.B. Joint Fire Board Meeting - 417  W Arlington St
DESCRIPTION:
URL:https://www.cityofbangormi.org/event/a-b-b-joint-fire-board-meeting-417-w-arlington-st/2025-05-12
LOCATION:Bangor Fire Department\, 417 W Arlington St\, Bangor\, 49013\, United States
CATEGORIES:Fire Board
END:VEVENT
BEGIN:VEVENT
DTSTART;TZID=America/Detroit:20250515T180000
DTEND;TZID=America/Detroit:20250515T190000
DTSTAMP:20260421T075912
CREATED:20231026T191646Z
LAST-MODIFIED:20240126T134422Z
UID:10001042-1747332000-1747335600@www.cityofbangormi.org
SUMMARY:Bangor Housing Commission Meeting
DESCRIPTION:
URL:https://www.cityofbangormi.org/event/bangor-housing-commission-meeting/2025-05-15
LOCATION:Bangor Housing\, 820 Second Street\, Bangor\, MI\, 49013\, United States
CATEGORIES:Housing Commission Meeting
END:VEVENT
BEGIN:VEVENT
DTSTART;TZID=America/Detroit:20250519T190000
DTEND;TZID=America/Detroit:20250519T200000
DTSTAMP:20260421T075912
CREATED:20240105T155431Z
LAST-MODIFIED:20240105T160328Z
UID:10000934-1747681200-1747684800@www.cityofbangormi.org
SUMMARY:City Council Meeting
DESCRIPTION:The City Council regularly meets the first and third Monday of each month at 7:00 PM Eastern Time in the Council Room at City Hall\, 257 West Monroe Street\, Bangor\, MI 49013. When Monday falls on a legal holiday meetings are moved to the next day. It is important to check the Calendar to confirm meeting dates\, times\, and details.
URL:https://www.cityofbangormi.org/event/city-council-meeting-2/2025-05-19
LOCATION:Bangor City Hall\, 257 West Monroe Street\, Bangor\, MI\, 49013\, United States
CATEGORIES:City Council Meeting
END:VEVENT
BEGIN:VEVENT
DTSTART;TZID=America/Detroit:20250520T190000
DTEND;TZID=America/Detroit:20250520T200000
DTSTAMP:20260421T075912
CREATED:20240105T160000Z
LAST-MODIFIED:20240105T160000Z
UID:10000880-1747767600-1747771200@www.cityofbangormi.org
SUMMARY:Bangor DDA Meeting
DESCRIPTION:
URL:https://www.cityofbangormi.org/event/bangor-dda-meeting-2-2/2025-05-20
LOCATION:Bangor City Hall\, 257 West Monroe Street\, Bangor\, MI\, 49013\, United States
CATEGORIES:DDA Meeting
END:VEVENT
BEGIN:VEVENT
DTSTART;TZID=America/Detroit:20250524T070000
DTEND;TZID=America/Detroit:20250524T100000
DTSTAMP:20260421T075912
CREATED:20250514T204342Z
LAST-MODIFIED:20250515T164300Z
UID:10001297-1748070000-1748080800@www.cityofbangormi.org
SUMMARY:Pancake Breakfast
DESCRIPTION:Pancake Breakfast \nat the Bangor Community Fire Department 417 W Arlington St \nSaturday May 24\, 2025 from 7AM to 10AM \nMenu Items: Pancakes\, Sausage\, Biscuits & Sausage Gravy\, Eggs\, Coffee\, Orange Juice & Milk \nDonations Only
URL:https://www.cityofbangormi.org/event/pancake-breakfast
LOCATION:Bangor Fire Department\, 417 W Arlington St\, Bangor\, 49013\, United States
CATEGORIES:Fire Board
END:VEVENT
BEGIN:VEVENT
DTSTART;VALUE=DATE:20250526
DTEND;VALUE=DATE:20250527
DTSTAMP:20260421T075912
CREATED:20250514T204502Z
LAST-MODIFIED:20250514T204557Z
UID:10001298-1748217600-1748303999@www.cityofbangormi.org
SUMMARY:City Hall Closed - Memorial Day
DESCRIPTION:City Hall will be closed in observance of Memorial Day
URL:https://www.cityofbangormi.org/event/city-hall-closed-memorial-day-2
CATEGORIES:City Hall - Observed Days Off
END:VEVENT
BEGIN:VEVENT
DTSTART;TZID=America/Detroit:20250526T190000
DTEND;TZID=America/Detroit:20250526T203000
DTSTAMP:20260421T075912
CREATED:20250512T144256Z
LAST-MODIFIED:20250512T144256Z
UID:10001294-1748286000-1748291400@www.cityofbangormi.org
SUMMARY:Cemetery Meeting
DESCRIPTION:
URL:https://www.cityofbangormi.org/event/cemetery-meeting
LOCATION:Bangor Fire Department\, 417 W Arlington St\, Bangor\, 49013\, United States
CATEGORIES:Cemetery Committee Meeting
END:VEVENT
BEGIN:VEVENT
DTSTART;TZID=America/Detroit:20250530T110000
DTEND;TZID=America/Detroit:20250530T150000
DTSTAMP:20260421T075912
CREATED:20250430T154700Z
LAST-MODIFIED:20250430T154700Z
UID:10001293-1748602800-1748617200@www.cityofbangormi.org
SUMMARY:Transfer Station - Permit Required
DESCRIPTION:
URL:https://www.cityofbangormi.org/event/transfer-station-permit-required
CATEGORIES:DPW
END:VEVENT
END:VCALENDAR