BEGIN:VCALENDAR
VERSION:2.0
PRODID:-//City of Bangor - ECPv6.15.20//NONSGML v1.0//EN
CALSCALE:GREGORIAN
METHOD:PUBLISH
X-ORIGINAL-URL:https://www.cityofbangormi.org
X-WR-CALDESC:Events for City of Bangor
REFRESH-INTERVAL;VALUE=DURATION:PT1H
X-Robots-Tag:noindex
X-PUBLISHED-TTL:PT1H
BEGIN:VTIMEZONE
TZID:America/Detroit
BEGIN:DAYLIGHT
TZOFFSETFROM:-0500
TZOFFSETTO:-0400
TZNAME:EDT
DTSTART:20240310T070000
END:DAYLIGHT
BEGIN:STANDARD
TZOFFSETFROM:-0400
TZOFFSETTO:-0500
TZNAME:EST
DTSTART:20241103T060000
END:STANDARD
BEGIN:DAYLIGHT
TZOFFSETFROM:-0500
TZOFFSETTO:-0400
TZNAME:EDT
DTSTART:20250309T070000
END:DAYLIGHT
BEGIN:STANDARD
TZOFFSETFROM:-0400
TZOFFSETTO:-0500
TZNAME:EST
DTSTART:20251102T060000
END:STANDARD
BEGIN:DAYLIGHT
TZOFFSETFROM:-0500
TZOFFSETTO:-0400
TZNAME:EDT
DTSTART:20260308T070000
END:DAYLIGHT
BEGIN:STANDARD
TZOFFSETFROM:-0400
TZOFFSETTO:-0500
TZNAME:EST
DTSTART:20261101T060000
END:STANDARD
END:VTIMEZONE
BEGIN:VEVENT
DTSTART;TZID=America/Detroit:20250303T190000
DTEND;TZID=America/Detroit:20250303T190000
DTSTAMP:20260421T095433
CREATED:20240820T194337Z
LAST-MODIFIED:20240820T194732Z
UID:10001177-1741028400-1741028400@www.cityofbangormi.org
SUMMARY:City Council Meeting
DESCRIPTION:The City Council regularly meets the first and third Monday of each month at 7:00 PM Eastern Time in the Council Room at City Hall\, 257 West Monroe Street\, Bangor\, MI 49013. When Monday falls on a legal holiday meetings are moved to the next day. It is important to check the Calendar to confirm meeting dates\, times\, and details.
URL:https://www.cityofbangormi.org/event/city-council-meeting-3/2025-03-03
LOCATION:Bangor City Hall\, 257 West Monroe Street\, Bangor\, MI\, 49013\, United States
CATEGORIES:City Council Meeting
END:VEVENT
BEGIN:VEVENT
DTSTART;TZID=America/Detroit:20250304T180000
DTEND;TZID=America/Detroit:20250304T190000
DTSTAMP:20260421T095433
CREATED:20250226T135935Z
LAST-MODIFIED:20250226T135935Z
UID:10001259-1741111200-1741114800@www.cityofbangormi.org
SUMMARY:Parks & Recreation Advisory Board Regular Meeting
DESCRIPTION:This meeting is normally at 4:30 PM but for March 2025 it has been changed to 6:00 PM for the start time.
URL:https://www.cityofbangormi.org/event/parks-recreation-advisory-board-regular-meeting-3
LOCATION:Bangor City Hall\, 257 West Monroe Street\, Bangor\, MI\, 49013\, United States
CATEGORIES:Parks & Recreation Advisory Board
END:VEVENT
BEGIN:VEVENT
DTSTART;TZID=America/Detroit:20250313T190000
DTEND;TZID=America/Detroit:20250313T200000
DTSTAMP:20260421T095433
CREATED:20240103T210702Z
LAST-MODIFIED:20240105T162852Z
UID:10000975-1741892400-1741896000@www.cityofbangormi.org
SUMMARY:Planning Commission Meeting
DESCRIPTION:
URL:https://www.cityofbangormi.org/event/planning-commission-meeting/2025-03-13
LOCATION:Bangor City Hall\, 257 West Monroe Street\, Bangor\, MI\, 49013\, United States
CATEGORIES:Planning Commission
END:VEVENT
BEGIN:VEVENT
DTSTART;TZID=America/Detroit:20250317T190000
DTEND;TZID=America/Detroit:20250317T200000
DTSTAMP:20260421T095433
CREATED:20240105T155431Z
LAST-MODIFIED:20240105T160328Z
UID:10000793-1742238000-1742241600@www.cityofbangormi.org
SUMMARY:City Council Meeting
DESCRIPTION:The City Council regularly meets the first and third Monday of each month at 7:00 PM Eastern Time in the Council Room at City Hall\, 257 West Monroe Street\, Bangor\, MI 49013. When Monday falls on a legal holiday meetings are moved to the next day. It is important to check the Calendar to confirm meeting dates\, times\, and details.
URL:https://www.cityofbangormi.org/event/city-council-meeting-2/2025-03-17
LOCATION:Bangor City Hall\, 257 West Monroe Street\, Bangor\, MI\, 49013\, United States
CATEGORIES:City Council Meeting
END:VEVENT
BEGIN:VEVENT
DTSTART;TZID=America/Detroit:20250318T190000
DTEND;TZID=America/Detroit:20250318T200000
DTSTAMP:20260421T095433
CREATED:20240105T160000Z
LAST-MODIFIED:20240105T160000Z
UID:10000878-1742324400-1742328000@www.cityofbangormi.org
SUMMARY:Bangor DDA Meeting
DESCRIPTION:
URL:https://www.cityofbangormi.org/event/bangor-dda-meeting-2-2/2025-03-18
LOCATION:Bangor City Hall\, 257 West Monroe Street\, Bangor\, MI\, 49013\, United States
CATEGORIES:DDA Meeting
END:VEVENT
BEGIN:VEVENT
DTSTART;TZID=America/Detroit:20250320T180000
DTEND;TZID=America/Detroit:20250320T190000
DTSTAMP:20260421T095433
CREATED:20231026T191646Z
LAST-MODIFIED:20240126T134422Z
UID:10001040-1742493600-1742497200@www.cityofbangormi.org
SUMMARY:Bangor Housing Commission Meeting
DESCRIPTION:
URL:https://www.cityofbangormi.org/event/bangor-housing-commission-meeting/2025-03-20
LOCATION:Bangor Housing\, 820 Second Street\, Bangor\, MI\, 49013\, United States
CATEGORIES:Housing Commission Meeting
END:VEVENT
BEGIN:VEVENT
DTSTART;TZID=America/Detroit:20250320T180000
DTEND;TZID=America/Detroit:20250320T193000
DTSTAMP:20260421T095433
CREATED:20250226T140126Z
LAST-MODIFIED:20250226T140126Z
UID:10001260-1742493600-1742499000@www.cityofbangormi.org
SUMMARY:EDC Regular Meeting
DESCRIPTION:This board meetings March through November of each year.
URL:https://www.cityofbangormi.org/event/edc-regular-meeting-2
LOCATION:Bangor City Hall\, 257 West Monroe Street\, Bangor\, MI\, 49013\, United States
CATEGORIES:EDC Meeting
END:VEVENT
BEGIN:VEVENT
DTSTART;TZID=America/Detroit:20250327T180000
DTEND;TZID=America/Detroit:20250327T190000
DTSTAMP:20260421T095433
CREATED:20250221T212024Z
LAST-MODIFIED:20250327T162041Z
UID:10001258-1743098400-1743102000@www.cityofbangormi.org
SUMMARY:ABB Joint Fire District Board Special Meeting
DESCRIPTION:
URL:https://www.cityofbangormi.org/event/abb-joint-fire-district-board-special-meeting
LOCATION:Bangor Fire Department\, 417 W Arlington St\, Bangor\, 49013\, United States
CATEGORIES:City Council Meeting
END:VEVENT
END:VCALENDAR