BEGIN:VCALENDAR
VERSION:2.0
PRODID:-//City of Bangor - ECPv6.15.20//NONSGML v1.0//EN
CALSCALE:GREGORIAN
METHOD:PUBLISH
X-WR-CALNAME:City of Bangor
X-ORIGINAL-URL:https://www.cityofbangormi.org
X-WR-CALDESC:Events for City of Bangor
REFRESH-INTERVAL;VALUE=DURATION:PT1H
X-Robots-Tag:noindex
X-PUBLISHED-TTL:PT1H
BEGIN:VTIMEZONE
TZID:America/Detroit
BEGIN:DAYLIGHT
TZOFFSETFROM:-0500
TZOFFSETTO:-0400
TZNAME:EDT
DTSTART:20230312T070000
END:DAYLIGHT
BEGIN:STANDARD
TZOFFSETFROM:-0400
TZOFFSETTO:-0500
TZNAME:EST
DTSTART:20231105T060000
END:STANDARD
BEGIN:DAYLIGHT
TZOFFSETFROM:-0500
TZOFFSETTO:-0400
TZNAME:EDT
DTSTART:20240310T070000
END:DAYLIGHT
BEGIN:STANDARD
TZOFFSETFROM:-0400
TZOFFSETTO:-0500
TZNAME:EST
DTSTART:20241103T060000
END:STANDARD
BEGIN:DAYLIGHT
TZOFFSETFROM:-0500
TZOFFSETTO:-0400
TZNAME:EDT
DTSTART:20250309T070000
END:DAYLIGHT
BEGIN:STANDARD
TZOFFSETFROM:-0400
TZOFFSETTO:-0500
TZNAME:EST
DTSTART:20251102T060000
END:STANDARD
BEGIN:DAYLIGHT
TZOFFSETFROM:-0500
TZOFFSETTO:-0400
TZNAME:EDT
DTSTART:20260308T070000
END:DAYLIGHT
BEGIN:STANDARD
TZOFFSETFROM:-0400
TZOFFSETTO:-0500
TZNAME:EST
DTSTART:20261101T060000
END:STANDARD
END:VTIMEZONE
BEGIN:VEVENT
DTSTART;VALUE=DATE:20241231
DTEND;VALUE=DATE:20250102
DTSTAMP:20260421T141227
CREATED:20241206T192505Z
LAST-MODIFIED:20241206T192505Z
UID:10001249-1735603200-1735775999@www.cityofbangormi.org
SUMMARY:City Hall Closed for New Years
DESCRIPTION:
URL:https://www.cityofbangormi.org/event/city-hall-closed-for-new-years
CATEGORIES:City Hall - Observed Days Off
END:VEVENT
BEGIN:VEVENT
DTSTART;TZID=America/Detroit:20250106T190000
DTEND;TZID=America/Detroit:20250106T190000
DTSTAMP:20260421T141227
CREATED:20240820T194337Z
LAST-MODIFIED:20240820T194732Z
UID:10001175-1736190000-1736190000@www.cityofbangormi.org
SUMMARY:City Council Meeting
DESCRIPTION:The City Council regularly meets the first and third Monday of each month at 7:00 PM Eastern Time in the Council Room at City Hall\, 257 West Monroe Street\, Bangor\, MI 49013. When Monday falls on a legal holiday meetings are moved to the next day. It is important to check the Calendar to confirm meeting dates\, times\, and details.
URL:https://www.cityofbangormi.org/event/city-council-meeting-3/2025-01-06
LOCATION:Bangor City Hall\, 257 West Monroe Street\, Bangor\, MI\, 49013\, United States
CATEGORIES:City Council Meeting
END:VEVENT
BEGIN:VEVENT
DTSTART;TZID=America/Detroit:20250109T190000
DTEND;TZID=America/Detroit:20250109T200000
DTSTAMP:20260421T141227
CREATED:20240103T210702Z
LAST-MODIFIED:20240105T162852Z
UID:10001278-1736449200-1736452800@www.cityofbangormi.org
SUMMARY:Planning Commission Meeting
DESCRIPTION:
URL:https://www.cityofbangormi.org/event/planning-commission-meeting/2025-01-09
LOCATION:Bangor City Hall\, 257 West Monroe Street\, Bangor\, MI\, 49013\, United States
CATEGORIES:Planning Commission
END:VEVENT
BEGIN:VEVENT
DTSTART;TZID=America/Detroit:20250116T180000
DTEND;TZID=America/Detroit:20250116T190000
DTSTAMP:20260421T141227
CREATED:20231026T191646Z
LAST-MODIFIED:20240126T134422Z
UID:10001038-1737050400-1737054000@www.cityofbangormi.org
SUMMARY:Bangor Housing Commission Meeting
DESCRIPTION:
URL:https://www.cityofbangormi.org/event/bangor-housing-commission-meeting/2025-01-16
LOCATION:Bangor Housing\, 820 Second Street\, Bangor\, MI\, 49013\, United States
CATEGORIES:Housing Commission Meeting
END:VEVENT
BEGIN:VEVENT
DTSTART;VALUE=DATE:20250120
DTEND;VALUE=DATE:20250121
DTSTAMP:20260421T141227
CREATED:20250109T134631Z
LAST-MODIFIED:20250109T134850Z
UID:10001251-1737331200-1737417599@www.cityofbangormi.org
SUMMARY:City Hall Closed for Martin Luther King Jr Day
DESCRIPTION:
URL:https://www.cityofbangormi.org/event/martin-luther-king-jr-day
CATEGORIES:City Hall - Observed Days Off
END:VEVENT
BEGIN:VEVENT
DTSTART;TZID=America/Detroit:20250121T190000
DTEND;TZID=America/Detroit:20250121T200000
DTSTAMP:20260421T141227
CREATED:20240105T160000Z
LAST-MODIFIED:20240105T160000Z
UID:10001351-1737486000-1737489600@www.cityofbangormi.org
SUMMARY:Bangor DDA Meeting
DESCRIPTION:
URL:https://www.cityofbangormi.org/event/bangor-dda-meeting-2-2/2025-01-21
LOCATION:Bangor City Hall\, 257 West Monroe Street\, Bangor\, MI\, 49013\, United States
CATEGORIES:DDA Meeting
END:VEVENT
BEGIN:VEVENT
DTSTART;TZID=America/Detroit:20250121T190000
DTEND;TZID=America/Detroit:20250121T203000
DTSTAMP:20260421T141227
CREATED:20250109T134507Z
LAST-MODIFIED:20250109T134507Z
UID:10001250-1737486000-1737491400@www.cityofbangormi.org
SUMMARY:City Council Regular Meeting
DESCRIPTION:
URL:https://www.cityofbangormi.org/event/city-council-regular-meeting
CATEGORIES:City Council Meeting
END:VEVENT
BEGIN:VEVENT
DTSTART;TZID=America/Detroit:20250128T190000
DTEND;TZID=America/Detroit:20250128T203000
DTSTAMP:20260421T141227
CREATED:20250109T163959Z
LAST-MODIFIED:20250109T163959Z
UID:10001252-1738090800-1738096200@www.cityofbangormi.org
SUMMARY:Bangor DDA Regular Meeting
DESCRIPTION:
URL:https://www.cityofbangormi.org/event/bangor-dda-regular-meeting
CATEGORIES:DDA Meeting
END:VEVENT
END:VCALENDAR