BEGIN:VCALENDAR
VERSION:2.0
PRODID:-//City of Bangor - ECPv6.15.20//NONSGML v1.0//EN
CALSCALE:GREGORIAN
METHOD:PUBLISH
X-ORIGINAL-URL:https://www.cityofbangormi.org
X-WR-CALDESC:Events for City of Bangor
REFRESH-INTERVAL;VALUE=DURATION:PT1H
X-Robots-Tag:noindex
X-PUBLISHED-TTL:PT1H
BEGIN:VTIMEZONE
TZID:America/Detroit
BEGIN:DAYLIGHT
TZOFFSETFROM:-0500
TZOFFSETTO:-0400
TZNAME:EDT
DTSTART:20230312T070000
END:DAYLIGHT
BEGIN:STANDARD
TZOFFSETFROM:-0400
TZOFFSETTO:-0500
TZNAME:EST
DTSTART:20231105T060000
END:STANDARD
BEGIN:DAYLIGHT
TZOFFSETFROM:-0500
TZOFFSETTO:-0400
TZNAME:EDT
DTSTART:20240310T070000
END:DAYLIGHT
BEGIN:STANDARD
TZOFFSETFROM:-0400
TZOFFSETTO:-0500
TZNAME:EST
DTSTART:20241103T060000
END:STANDARD
BEGIN:DAYLIGHT
TZOFFSETFROM:-0500
TZOFFSETTO:-0400
TZNAME:EDT
DTSTART:20250309T070000
END:DAYLIGHT
BEGIN:STANDARD
TZOFFSETFROM:-0400
TZOFFSETTO:-0500
TZNAME:EST
DTSTART:20251102T060000
END:STANDARD
END:VTIMEZONE
BEGIN:VEVENT
DTSTART;TZID=America/Detroit:20240805T190000
DTEND;TZID=America/Detroit:20240805T190000
DTSTAMP:20260422T061149
CREATED:20231004T150914Z
LAST-MODIFIED:20231004T151805Z
UID:10000015-1722884400-1722884400@www.cityofbangormi.org
SUMMARY:City Council Meeting
DESCRIPTION:The City Council regularly meets the first and third Monday of each month at 7:00 PM Eastern Time in the Council Room at City Hall\, 257 West Monroe Street\, Bangor\, MI 49013. When Monday falls on a legal holiday meetings are moved to the next day. It is important to check the Calendar to confirm meeting dates\, times\, and details.
URL:https://www.cityofbangormi.org/event/city-council-meeting/2024-08-05
LOCATION:Bangor City Hall\, 257 West Monroe Street\, Bangor\, MI\, 49013\, United States
CATEGORIES:City Council Meeting
END:VEVENT
BEGIN:VEVENT
DTSTART;TZID=America/Detroit:20240808T190000
DTEND;TZID=America/Detroit:20240808T200000
DTSTAMP:20260422T061149
CREATED:20240103T210702Z
LAST-MODIFIED:20240105T162852Z
UID:10000968-1723143600-1723147200@www.cityofbangormi.org
SUMMARY:Planning Commission Meeting
DESCRIPTION:
URL:https://www.cityofbangormi.org/event/planning-commission-meeting/2024-08-08
LOCATION:Bangor City Hall\, 257 West Monroe Street\, Bangor\, MI\, 49013\, United States
CATEGORIES:Planning Commission
END:VEVENT
BEGIN:VEVENT
DTSTART;TZID=America/Detroit:20240815T180000
DTEND;TZID=America/Detroit:20240815T190000
DTSTAMP:20260422T061149
CREATED:20231026T191646Z
LAST-MODIFIED:20240126T134422Z
UID:10001033-1723744800-1723748400@www.cityofbangormi.org
SUMMARY:Bangor Housing Commission Meeting
DESCRIPTION:
URL:https://www.cityofbangormi.org/event/bangor-housing-commission-meeting/2024-08-15
LOCATION:Bangor Housing\, 820 Second Street\, Bangor\, MI\, 49013\, United States
CATEGORIES:Housing Commission Meeting
END:VEVENT
BEGIN:VEVENT
DTSTART;TZID=America/Detroit:20240819T190000
DTEND;TZID=America/Detroit:20240819T200000
DTSTAMP:20260422T061149
CREATED:20240105T155431Z
LAST-MODIFIED:20240105T160328Z
UID:10000928-1724094000-1724097600@www.cityofbangormi.org
SUMMARY:City Council Meeting
DESCRIPTION:The City Council regularly meets the first and third Monday of each month at 7:00 PM Eastern Time in the Council Room at City Hall\, 257 West Monroe Street\, Bangor\, MI 49013. When Monday falls on a legal holiday meetings are moved to the next day. It is important to check the Calendar to confirm meeting dates\, times\, and details.
URL:https://www.cityofbangormi.org/event/city-council-meeting-2/2024-08-19
LOCATION:Bangor City Hall\, 257 West Monroe Street\, Bangor\, MI\, 49013\, United States
CATEGORIES:City Council Meeting
END:VEVENT
BEGIN:VEVENT
DTSTART;TZID=America/Detroit:20240820T190000
DTEND;TZID=America/Detroit:20240820T200000
DTSTAMP:20260422T061149
CREATED:20240105T160000Z
LAST-MODIFIED:20240105T160000Z
UID:10000871-1724180400-1724184000@www.cityofbangormi.org
SUMMARY:Bangor DDA Meeting
DESCRIPTION:
URL:https://www.cityofbangormi.org/event/bangor-dda-meeting-2-2/2024-08-20
LOCATION:Bangor City Hall\, 257 West Monroe Street\, Bangor\, MI\, 49013\, United States
CATEGORIES:DDA Meeting
END:VEVENT
BEGIN:VEVENT
DTSTART;TZID=America/Detroit:20240822T190000
DTEND;TZID=America/Detroit:20240822T203000
DTSTAMP:20260422T061149
CREATED:20240819T221206Z
LAST-MODIFIED:20240819T221206Z
UID:10001109-1724353200-1724358600@www.cityofbangormi.org
SUMMARY:Bangor Historical Society - History of Wood School
DESCRIPTION:Our next general meeting is this Thursday Aug. 22 at 7pm. in the Odd Fellows Hall above the museum. (doors open at 6:30) 235 W Monroe St Bangor\, MI\n\nLisa DeBest Heimsath will be giving a presentation on the history of Wood School\, a one room school west of Bangor. It is one of the last one room schools still in operation in Michigan.
URL:https://www.cityofbangormi.org/event/bangor-historical-society-history-of-wood-school
CATEGORIES:General Events
END:VEVENT
BEGIN:VEVENT
DTSTART;TZID=America/Detroit:20240826T190000
DTEND;TZID=America/Detroit:20240826T200000
DTSTAMP:20260422T061149
CREATED:20240520T204523Z
LAST-MODIFIED:20240520T204524Z
UID:10000412-1724698800-1724702400@www.cityofbangormi.org
SUMMARY:Bangor Cemetery Committee Meeting
DESCRIPTION:
URL:https://www.cityofbangormi.org/event/bangor-cemetery-committee-meeting-2/2024-08-26
LOCATION:Bangor Fire Department\, 417 W Arlington St\, Bangor\, 49013\, United States
CATEGORIES:Cemetery Committee Meeting
END:VEVENT
END:VCALENDAR