BEGIN:VCALENDAR
VERSION:2.0
PRODID:-//City of Bangor - ECPv6.15.20//NONSGML v1.0//EN
CALSCALE:GREGORIAN
METHOD:PUBLISH
X-ORIGINAL-URL:https://www.cityofbangormi.org
X-WR-CALDESC:Events for City of Bangor
REFRESH-INTERVAL;VALUE=DURATION:PT1H
X-Robots-Tag:noindex
X-PUBLISHED-TTL:PT1H
BEGIN:VTIMEZONE
TZID:America/Detroit
BEGIN:DAYLIGHT
TZOFFSETFROM:-0500
TZOFFSETTO:-0400
TZNAME:EDT
DTSTART:20230312T070000
END:DAYLIGHT
BEGIN:STANDARD
TZOFFSETFROM:-0400
TZOFFSETTO:-0500
TZNAME:EST
DTSTART:20231105T060000
END:STANDARD
BEGIN:DAYLIGHT
TZOFFSETFROM:-0500
TZOFFSETTO:-0400
TZNAME:EDT
DTSTART:20240310T070000
END:DAYLIGHT
BEGIN:STANDARD
TZOFFSETFROM:-0400
TZOFFSETTO:-0500
TZNAME:EST
DTSTART:20241103T060000
END:STANDARD
BEGIN:DAYLIGHT
TZOFFSETFROM:-0500
TZOFFSETTO:-0400
TZNAME:EDT
DTSTART:20250309T070000
END:DAYLIGHT
BEGIN:STANDARD
TZOFFSETFROM:-0400
TZOFFSETTO:-0500
TZNAME:EST
DTSTART:20251102T060000
END:STANDARD
END:VTIMEZONE
BEGIN:VEVENT
DTSTART;TZID=America/Detroit:20240603T190000
DTEND;TZID=America/Detroit:20240603T190000
DTSTAMP:20260422T061148
CREATED:20231004T150914Z
LAST-MODIFIED:20231004T151805Z
UID:10000013-1717441200-1717441200@www.cityofbangormi.org
SUMMARY:City Council Meeting
DESCRIPTION:The City Council regularly meets the first and third Monday of each month at 7:00 PM Eastern Time in the Council Room at City Hall\, 257 West Monroe Street\, Bangor\, MI 49013. When Monday falls on a legal holiday meetings are moved to the next day. It is important to check the Calendar to confirm meeting dates\, times\, and details.
URL:https://www.cityofbangormi.org/event/city-council-meeting/2024-06-03
LOCATION:Bangor City Hall\, 257 West Monroe Street\, Bangor\, MI\, 49013\, United States
CATEGORIES:City Council Meeting
END:VEVENT
BEGIN:VEVENT
DTSTART;TZID=America/Detroit:20240613T190000
DTEND;TZID=America/Detroit:20240613T200000
DTSTAMP:20260422T061148
CREATED:20240103T210702Z
LAST-MODIFIED:20240105T162852Z
UID:10000966-1718305200-1718308800@www.cityofbangormi.org
SUMMARY:Planning Commission Meeting
DESCRIPTION:
URL:https://www.cityofbangormi.org/event/planning-commission-meeting/2024-06-13
LOCATION:Bangor City Hall\, 257 West Monroe Street\, Bangor\, MI\, 49013\, United States
CATEGORIES:Planning Commission
END:VEVENT
BEGIN:VEVENT
DTSTART;TZID=America/Detroit:20240617T190000
DTEND;TZID=America/Detroit:20240617T200000
DTSTAMP:20260422T061148
CREATED:20240105T155431Z
LAST-MODIFIED:20240105T160328Z
UID:10000790-1718650800-1718654400@www.cityofbangormi.org
SUMMARY:City Council Meeting
DESCRIPTION:The City Council regularly meets the first and third Monday of each month at 7:00 PM Eastern Time in the Council Room at City Hall\, 257 West Monroe Street\, Bangor\, MI 49013. When Monday falls on a legal holiday meetings are moved to the next day. It is important to check the Calendar to confirm meeting dates\, times\, and details.
URL:https://www.cityofbangormi.org/event/city-council-meeting-2/2024-06-17
LOCATION:Bangor City Hall\, 257 West Monroe Street\, Bangor\, MI\, 49013\, United States
CATEGORIES:City Council Meeting
END:VEVENT
BEGIN:VEVENT
DTSTART;TZID=America/Detroit:20240618T190000
DTEND;TZID=America/Detroit:20240618T200000
DTSTAMP:20260422T061148
CREATED:20240105T160000Z
LAST-MODIFIED:20240105T160000Z
UID:10000869-1718737200-1718740800@www.cityofbangormi.org
SUMMARY:Bangor DDA Meeting
DESCRIPTION:
URL:https://www.cityofbangormi.org/event/bangor-dda-meeting-2-2/2024-06-18
LOCATION:Bangor City Hall\, 257 West Monroe Street\, Bangor\, MI\, 49013\, United States
CATEGORIES:DDA Meeting
END:VEVENT
BEGIN:VEVENT
DTSTART;TZID=America/Detroit:20240619T190000
DTEND;TZID=America/Detroit:20240619T200000
DTSTAMP:20260422T061148
CREATED:20231128T132014Z
LAST-MODIFIED:20231128T132102Z
UID:10000401-1718823600-1718827200@www.cityofbangormi.org
SUMMARY:Bangor EDC Meeting
DESCRIPTION:The EDC meets on the third Wednesday of each month from March through November. Meetings are at City Hall and begin at 7pm.
URL:https://www.cityofbangormi.org/event/edc-meeting/2024-06-19
LOCATION:Bangor City Hall\, 257 West Monroe Street\, Bangor\, MI\, 49013\, United States
CATEGORIES:EDC Meeting
END:VEVENT
BEGIN:VEVENT
DTSTART;TZID=America/Detroit:20240620T180000
DTEND;TZID=America/Detroit:20240620T190000
DTSTAMP:20260422T061148
CREATED:20231026T191646Z
LAST-MODIFIED:20240126T134422Z
UID:10001031-1718906400-1718910000@www.cityofbangormi.org
SUMMARY:Bangor Housing Commission Meeting
DESCRIPTION:
URL:https://www.cityofbangormi.org/event/bangor-housing-commission-meeting/2024-06-20
LOCATION:Bangor Housing\, 820 Second Street\, Bangor\, MI\, 49013\, United States
CATEGORIES:Housing Commission Meeting
END:VEVENT
BEGIN:VEVENT
DTSTART;TZID=America/Detroit:20240624T190000
DTEND;TZID=America/Detroit:20240624T200000
DTSTAMP:20260422T061148
CREATED:20240520T204523Z
LAST-MODIFIED:20240520T204524Z
UID:10000410-1719255600-1719259200@www.cityofbangormi.org
SUMMARY:Bangor Cemetery Committee Meeting
DESCRIPTION:
URL:https://www.cityofbangormi.org/event/bangor-cemetery-committee-meeting-2/2024-06-24
LOCATION:Bangor Fire Department\, 417 W Arlington St\, Bangor\, 49013\, United States
CATEGORIES:Cemetery Committee Meeting
END:VEVENT
BEGIN:VEVENT
DTSTART;TZID=America/Detroit:20240625T173000
DTEND;TZID=America/Detroit:20240625T183000
DTSTAMP:20260422T061148
CREATED:20240614T211852Z
LAST-MODIFIED:20240614T211852Z
UID:10001107-1719336600-1719340200@www.cityofbangormi.org
SUMMARY:Budget & Truth In Taxation Public Hearing
DESCRIPTION:
URL:https://www.cityofbangormi.org/event/budget-truth-in-taxation-public-hearing
CATEGORIES:City Council Meeting
END:VEVENT
END:VCALENDAR