BEGIN:VCALENDAR
VERSION:2.0
PRODID:-//City of Bangor - ECPv6.15.20//NONSGML v1.0//EN
CALSCALE:GREGORIAN
METHOD:PUBLISH
X-WR-CALNAME:City of Bangor
X-ORIGINAL-URL:https://www.cityofbangormi.org
X-WR-CALDESC:Events for City of Bangor
REFRESH-INTERVAL;VALUE=DURATION:PT1H
X-Robots-Tag:noindex
X-PUBLISHED-TTL:PT1H
BEGIN:VTIMEZONE
TZID:America/Detroit
BEGIN:DAYLIGHT
TZOFFSETFROM:-0500
TZOFFSETTO:-0400
TZNAME:EDT
DTSTART:20230312T070000
END:DAYLIGHT
BEGIN:STANDARD
TZOFFSETFROM:-0400
TZOFFSETTO:-0500
TZNAME:EST
DTSTART:20231105T060000
END:STANDARD
BEGIN:DAYLIGHT
TZOFFSETFROM:-0500
TZOFFSETTO:-0400
TZNAME:EDT
DTSTART:20240310T070000
END:DAYLIGHT
BEGIN:STANDARD
TZOFFSETFROM:-0400
TZOFFSETTO:-0500
TZNAME:EST
DTSTART:20241103T060000
END:STANDARD
BEGIN:DAYLIGHT
TZOFFSETFROM:-0500
TZOFFSETTO:-0400
TZNAME:EDT
DTSTART:20250309T070000
END:DAYLIGHT
BEGIN:STANDARD
TZOFFSETFROM:-0400
TZOFFSETTO:-0500
TZNAME:EST
DTSTART:20251102T060000
END:STANDARD
END:VTIMEZONE
BEGIN:VEVENT
DTSTART;TZID=America/Detroit:20240205T190000
DTEND;TZID=America/Detroit:20240205T190000
DTSTAMP:20260422T183845
CREATED:20231004T150914Z
LAST-MODIFIED:20231004T151805Z
UID:10000009-1707159600-1707159600@www.cityofbangormi.org
SUMMARY:City Council Meeting
DESCRIPTION:The City Council regularly meets the first and third Monday of each month at 7:00 PM Eastern Time in the Council Room at City Hall\, 257 West Monroe Street\, Bangor\, MI 49013. When Monday falls on a legal holiday meetings are moved to the next day. It is important to check the Calendar to confirm meeting dates\, times\, and details.
URL:https://www.cityofbangormi.org/event/city-council-meeting/2024-02-05
LOCATION:Bangor City Hall\, 257 West Monroe Street\, Bangor\, MI\, 49013\, United States
CATEGORIES:City Council Meeting
END:VEVENT
BEGIN:VEVENT
DTSTART;TZID=America/Detroit:20240208T190000
DTEND;TZID=America/Detroit:20240208T200000
DTSTAMP:20260422T183845
CREATED:20240103T210702Z
LAST-MODIFIED:20240105T162852Z
UID:10000788-1707418800-1707422400@www.cityofbangormi.org
SUMMARY:Planning Commission Meeting
DESCRIPTION:
URL:https://www.cityofbangormi.org/event/planning-commission-meeting/2024-02-08
LOCATION:Bangor City Hall\, 257 West Monroe Street\, Bangor\, MI\, 49013\, United States
CATEGORIES:Planning Commission
END:VEVENT
BEGIN:VEVENT
DTSTART;TZID=America/Detroit:20240215T180000
DTEND;TZID=America/Detroit:20240215T190000
DTSTAMP:20260422T183845
CREATED:20231026T191646Z
LAST-MODIFIED:20240126T134422Z
UID:10001027-1708020000-1708023600@www.cityofbangormi.org
SUMMARY:Bangor Housing Commission Meeting
DESCRIPTION:
URL:https://www.cityofbangormi.org/event/bangor-housing-commission-meeting/2024-02-15
LOCATION:Bangor Housing\, 820 Second Street\, Bangor\, MI\, 49013\, United States
CATEGORIES:Housing Commission Meeting
END:VEVENT
BEGIN:VEVENT
DTSTART;TZID=America/Detroit:20240217T070000
DTEND;TZID=America/Detroit:20240224T200000
DTSTAMP:20260422T183845
CREATED:20240122T211519Z
LAST-MODIFIED:20240122T211740Z
UID:10001022-1708153200-1708804800@www.cityofbangormi.org
SUMMARY:In Person - Early Voting
DESCRIPTION:Voter Info Trifold (1).2024 Elections2
URL:https://www.cityofbangormi.org/event/in-person-early-voting
LOCATION:Van Buren County Building\, 57418 CR 681\, Hartford\, 49057\, United States
CATEGORIES:Elections
END:VEVENT
BEGIN:VEVENT
DTSTART;VALUE=DATE:20240219
DTEND;VALUE=DATE:20240220
DTSTAMP:20260422T183845
CREATED:20240105T160124Z
LAST-MODIFIED:20240105T160124Z
UID:10000924-1708300800-1708387199@www.cityofbangormi.org
SUMMARY:City Hall Closed - Presidents Day
DESCRIPTION:
URL:https://www.cityofbangormi.org/event/city-hall-closed-presidents-day
CATEGORIES:City Hall - Observed Days Off
END:VEVENT
BEGIN:VEVENT
DTSTART;TZID=America/Detroit:20240220T190000
DTEND;TZID=America/Detroit:20240220T200000
DTSTAMP:20260422T183845
CREATED:20240103T181558Z
LAST-MODIFIED:20240105T155710Z
UID:10000787-1708455600-1708459200@www.cityofbangormi.org
SUMMARY:Regular City Council Meeting
DESCRIPTION:The City Council regularly meets the first and third Monday of each month at 7:00 PM Eastern Time in the Council Room at City Hall\, 257 West Monroe Street\, Bangor\, MI 49013. When Monday falls on a legal holiday meetings are moved to the next day. It is important to check the Calendar to confirm meeting dates\, times\, and details.
URL:https://www.cityofbangormi.org/event/regular-city-council-meeting-3
LOCATION:Bangor City Hall\, 257 West Monroe Street\, Bangor\, MI\, 49013\, United States
CATEGORIES:City Council Meeting
END:VEVENT
BEGIN:VEVENT
DTSTART;TZID=America/Detroit:20240221T190000
DTEND;TZID=America/Detroit:20240221T200000
DTSTAMP:20260422T183845
CREATED:20240105T155831Z
LAST-MODIFIED:20240105T155832Z
UID:10000261-1708542000-1708545600@www.cityofbangormi.org
SUMMARY:Bangor DDA Meeting
DESCRIPTION:
URL:https://www.cityofbangormi.org/event/bangor-dda-meeting-2
LOCATION:Bangor City Hall\, 257 West Monroe Street\, Bangor\, MI\, 49013\, United States
CATEGORIES:DDA Meeting
END:VEVENT
BEGIN:VEVENT
DTSTART;TZID=America/Detroit:20240227T070000
DTEND;TZID=America/Detroit:20240227T200000
DTSTAMP:20260422T183845
CREATED:20240122T211722Z
LAST-MODIFIED:20240122T211722Z
UID:10001023-1709017200-1709064000@www.cityofbangormi.org
SUMMARY:Presidential Primary In Person
DESCRIPTION:IN Person On Election Day Voting for the Presidential Primary \nVoter Info Trifold (1).2024 Elections2
URL:https://www.cityofbangormi.org/event/presidential-primary-in-person
LOCATION:Bangor City Hall\, 257 West Monroe Street\, Bangor\, MI\, 49013\, United States
CATEGORIES:Elections
END:VEVENT
BEGIN:VEVENT
DTSTART;TZID=America/Detroit:20240228T123000
DTEND;TZID=America/Detroit:20240228T140000
DTSTAMP:20260422T183845
CREATED:20231005T142805Z
LAST-MODIFIED:20231005T142926Z
UID:10000194-1709123400-1709128800@www.cityofbangormi.org
SUMMARY:Bangor Senior Luncheon
DESCRIPTION:The senior luncheon schedule for the 2023-24 school year is now available. \nBPS provides a free lunch for any senior citizen aged 62 years and up\, residing within the Bangor School District. \nCome out and have a good meal\, enjoy student entertainment\, and hear updates about great things happening at Bangor Public Schools!
URL:https://www.cityofbangormi.org/event/bangor-senior-luncheon/2024-02-28
LOCATION:Bangor High School\, 801 W. Arlington Street\, Bangor\, MI\, 49013\, United States
CATEGORIES:Bangor Events
END:VEVENT
END:VCALENDAR