BEGIN:VCALENDAR
VERSION:2.0
PRODID:-//City of Bangor - ECPv6.15.20//NONSGML v1.0//EN
CALSCALE:GREGORIAN
METHOD:PUBLISH
X-ORIGINAL-URL:https://www.cityofbangormi.org
X-WR-CALDESC:Events for City of Bangor
REFRESH-INTERVAL;VALUE=DURATION:PT1H
X-Robots-Tag:noindex
X-PUBLISHED-TTL:PT1H
BEGIN:VTIMEZONE
TZID:America/Detroit
BEGIN:DAYLIGHT
TZOFFSETFROM:-0500
TZOFFSETTO:-0400
TZNAME:EDT
DTSTART:20220313T070000
END:DAYLIGHT
BEGIN:STANDARD
TZOFFSETFROM:-0400
TZOFFSETTO:-0500
TZNAME:EST
DTSTART:20221106T060000
END:STANDARD
BEGIN:DAYLIGHT
TZOFFSETFROM:-0500
TZOFFSETTO:-0400
TZNAME:EDT
DTSTART:20230312T070000
END:DAYLIGHT
BEGIN:STANDARD
TZOFFSETFROM:-0400
TZOFFSETTO:-0500
TZNAME:EST
DTSTART:20231105T060000
END:STANDARD
BEGIN:DAYLIGHT
TZOFFSETFROM:-0500
TZOFFSETTO:-0400
TZNAME:EDT
DTSTART:20240310T070000
END:DAYLIGHT
BEGIN:STANDARD
TZOFFSETFROM:-0400
TZOFFSETTO:-0500
TZNAME:EST
DTSTART:20241103T060000
END:STANDARD
BEGIN:DAYLIGHT
TZOFFSETFROM:-0500
TZOFFSETTO:-0400
TZNAME:EDT
DTSTART:20250309T070000
END:DAYLIGHT
BEGIN:STANDARD
TZOFFSETFROM:-0400
TZOFFSETTO:-0500
TZNAME:EST
DTSTART:20251102T060000
END:STANDARD
END:VTIMEZONE
BEGIN:VEVENT
DTSTART;TZID=America/Detroit:20231127T080000
DTEND;TZID=America/Detroit:20231222T180000
DTSTAMP:20260422T205600
CREATED:20231127T200235Z
LAST-MODIFIED:20231127T200501Z
UID:10000396-1701072000-1703268000@www.cityofbangormi.org
SUMMARY:Vote for Your Favorite Tree
DESCRIPTION:Watch for the Christmas trees at Charles Park (Caboose) to be decorated by South Walnut Elementary Students. Once they are decorated you can vote for your favorite tree at any of these locations: Hometown Pharmacy\, Sturgis Bank\, Hardings\, or City Hall. Voting begins on Monday\, 11/27 until Friday\, 12/22.
URL:https://www.cityofbangormi.org/event/vote-for-your-favorite-tree
CATEGORIES:Bangor Events,General Events
END:VEVENT
BEGIN:VEVENT
DTSTART;TZID=America/Detroit:20231202T180000
DTEND;TZID=America/Detroit:20231202T180000
DTSTAMP:20260422T205600
CREATED:20231127T195916Z
LAST-MODIFIED:20231127T200537Z
UID:10000395-1701540000-1701540000@www.cityofbangormi.org
SUMMARY:Annual Bangor Christmas Parade
DESCRIPTION:Join us downtown for the 2023 Bangor Christmas Parade. Line up starts at 5pm at Apple Blossom Drive and will end at Bangor City Hall. The parade itself will begin at 6pm. We look forward to kicking off another great holiday season with you and your family.
URL:https://www.cityofbangormi.org/event/annual-bangor-christmas-parade
CATEGORIES:Bangor Events,General Events
END:VEVENT
BEGIN:VEVENT
DTSTART;TZID=America/Detroit:20231204T190000
DTEND;TZID=America/Detroit:20231204T190000
DTSTAMP:20260422T205600
CREATED:20231004T150914Z
LAST-MODIFIED:20231004T151805Z
UID:10000007-1701716400-1701716400@www.cityofbangormi.org
SUMMARY:City Council Meeting
DESCRIPTION:The City Council regularly meets the first and third Monday of each month at 7:00 PM Eastern Time in the Council Room at City Hall\, 257 West Monroe Street\, Bangor\, MI 49013. When Monday falls on a legal holiday meetings are moved to the next day. It is important to check the Calendar to confirm meeting dates\, times\, and details.
URL:https://www.cityofbangormi.org/event/city-council-meeting/2023-12-04
LOCATION:Bangor City Hall\, 257 West Monroe Street\, Bangor\, MI\, 49013\, United States
CATEGORIES:City Council Meeting
END:VEVENT
BEGIN:VEVENT
DTSTART;TZID=America/Detroit:20231216T120000
DTEND;TZID=America/Detroit:20231216T130000
DTSTAMP:20260422T205600
CREATED:20231215T164142Z
LAST-MODIFIED:20231215T164447Z
UID:10000469-1702728000-1702731600@www.cityofbangormi.org
SUMMARY:Wreaths Across America
DESCRIPTION:
URL:https://www.cityofbangormi.org/event/wreaths-across-america
LOCATION:Arlington Hill Cemetery\, 56845 28th Ave\, Bangor\, 49013\, United States
CATEGORIES:Bangor Events
END:VEVENT
BEGIN:VEVENT
DTSTART;TZID=America/Detroit:20231219T190000
DTEND;TZID=America/Detroit:20231219T200000
DTSTAMP:20260422T205600
CREATED:20231026T191835Z
LAST-MODIFIED:20231026T191835Z
UID:10000259-1703012400-1703016000@www.cityofbangormi.org
SUMMARY:Bangor DDA Meeting
DESCRIPTION:
URL:https://www.cityofbangormi.org/event/bangor-dda-meeting/2023-12-19
LOCATION:Bangor City Hall\, 257 West Monroe Street\, Bangor\, MI\, 49013\, United States
CATEGORIES:DDA Meeting
END:VEVENT
BEGIN:VEVENT
DTSTART;TZID=America/Detroit:20231220T123000
DTEND;TZID=America/Detroit:20231220T140000
DTSTAMP:20260422T205600
CREATED:20231005T142805Z
LAST-MODIFIED:20231005T142926Z
UID:10000192-1703075400-1703080800@www.cityofbangormi.org
SUMMARY:Bangor Senior Luncheon
DESCRIPTION:The senior luncheon schedule for the 2023-24 school year is now available. \nBPS provides a free lunch for any senior citizen aged 62 years and up\, residing within the Bangor School District. \nCome out and have a good meal\, enjoy student entertainment\, and hear updates about great things happening at Bangor Public Schools!
URL:https://www.cityofbangormi.org/event/bangor-senior-luncheon/2023-12-20
LOCATION:Bangor High School\, 801 W. Arlington Street\, Bangor\, MI\, 49013\, United States
CATEGORIES:Bangor Events
END:VEVENT
BEGIN:VEVENT
DTSTART;TZID=America/Detroit:20231220T190000
DTEND;TZID=America/Detroit:20231220T200000
DTSTAMP:20260422T205600
CREATED:20231219T152537Z
LAST-MODIFIED:20231219T152556Z
UID:10000470-1703098800-1703102400@www.cityofbangormi.org
SUMMARY:Planning Commission
DESCRIPTION:
URL:https://www.cityofbangormi.org/event/planning-commission
LOCATION:Bangor City Hall\, 257 West Monroe Street\, Bangor\, MI\, 49013\, United States
CATEGORIES:Planning Commission
END:VEVENT
BEGIN:VEVENT
DTSTART;TZID=America/Detroit:20231221T180000
DTEND;TZID=America/Detroit:20231221T190000
DTSTAMP:20260422T205600
CREATED:20231026T191646Z
LAST-MODIFIED:20240126T134422Z
UID:10001025-1703181600-1703185200@www.cityofbangormi.org
SUMMARY:Bangor Housing Commission Meeting
DESCRIPTION:
URL:https://www.cityofbangormi.org/event/bangor-housing-commission-meeting/2023-12-21
LOCATION:Bangor Housing\, 820 Second Street\, Bangor\, MI\, 49013\, United States
CATEGORIES:Housing Commission Meeting
END:VEVENT
BEGIN:VEVENT
DTSTART;TZID=America/Detroit:20231222T080000
DTEND;TZID=America/Detroit:20231225T170000
DTSTAMP:20260422T205600
CREATED:20231026T192659Z
LAST-MODIFIED:20231026T192659Z
UID:10000380-1703232000-1703523600@www.cityofbangormi.org
SUMMARY:City Hall Closed - Christmas
DESCRIPTION:
URL:https://www.cityofbangormi.org/event/city-hall-closed-christmas
CATEGORIES:City Hall - Observed Days Off
END:VEVENT
BEGIN:VEVENT
DTSTART;TZID=America/Detroit:20231229T080000
DTEND;TZID=America/Detroit:20240101T170000
DTSTAMP:20260422T205600
CREATED:20231026T192830Z
LAST-MODIFIED:20231026T192830Z
UID:10000381-1703836800-1704128400@www.cityofbangormi.org
SUMMARY:City Hall Closed - New Year's
DESCRIPTION:
URL:https://www.cityofbangormi.org/event/city-hall-closed-new-years
CATEGORIES:City Hall - Observed Days Off
END:VEVENT
END:VCALENDAR