BEGIN:VCALENDAR
VERSION:2.0
PRODID:-//City of Bangor - ECPv6.15.20//NONSGML v1.0//EN
CALSCALE:GREGORIAN
METHOD:PUBLISH
X-ORIGINAL-URL:https://www.cityofbangormi.org
X-WR-CALDESC:Events for City of Bangor
REFRESH-INTERVAL;VALUE=DURATION:PT1H
X-Robots-Tag:noindex
X-PUBLISHED-TTL:PT1H
BEGIN:VTIMEZONE
TZID:America/Detroit
BEGIN:DAYLIGHT
TZOFFSETFROM:-0500
TZOFFSETTO:-0400
TZNAME:EDT
DTSTART:20230312T070000
END:DAYLIGHT
BEGIN:STANDARD
TZOFFSETFROM:-0400
TZOFFSETTO:-0500
TZNAME:EST
DTSTART:20231105T060000
END:STANDARD
BEGIN:DAYLIGHT
TZOFFSETFROM:-0500
TZOFFSETTO:-0400
TZNAME:EDT
DTSTART:20240310T070000
END:DAYLIGHT
BEGIN:STANDARD
TZOFFSETFROM:-0400
TZOFFSETTO:-0500
TZNAME:EST
DTSTART:20241103T060000
END:STANDARD
BEGIN:DAYLIGHT
TZOFFSETFROM:-0500
TZOFFSETTO:-0400
TZNAME:EDT
DTSTART:20250309T070000
END:DAYLIGHT
BEGIN:STANDARD
TZOFFSETFROM:-0400
TZOFFSETTO:-0500
TZNAME:EST
DTSTART:20251102T060000
END:STANDARD
END:VTIMEZONE
BEGIN:VEVENT
DTSTART;VALUE=DATE:20241015
DTEND;VALUE=DATE:20241016
DTSTAMP:20260422T075016
CREATED:20231026T193730Z
LAST-MODIFIED:20231026T193730Z
UID:10000389-1728950400-1729036799@www.cityofbangormi.org
SUMMARY:Cemetery Foundation Pour (Fall)
DESCRIPTION:
URL:https://www.cityofbangormi.org/event/cemetery-foundation-pour-fall/2024-10-15
CATEGORIES:General Events
END:VEVENT
BEGIN:VEVENT
DTSTART;TZID=America/Detroit:20241031T170000
DTEND;TZID=America/Detroit:20241031T190000
DTSTAMP:20260422T075016
CREATED:20241025T160515Z
LAST-MODIFIED:20241025T160941Z
UID:10001236-1730394000-1730401200@www.cityofbangormi.org
SUMMARY:Halloween Trick or Treating Hours
DESCRIPTION:
URL:https://www.cityofbangormi.org/event/halloween-trick-or-treating-hours
CATEGORIES:General Events
END:VEVENT
END:VCALENDAR