BEGIN:VCALENDAR
VERSION:2.0
PRODID:-//City of Bangor - ECPv6.15.20//NONSGML v1.0//EN
CALSCALE:GREGORIAN
METHOD:PUBLISH
X-WR-CALNAME:City of Bangor
X-ORIGINAL-URL:https://www.cityofbangormi.org
X-WR-CALDESC:Events for City of Bangor
REFRESH-INTERVAL;VALUE=DURATION:PT1H
X-Robots-Tag:noindex
X-PUBLISHED-TTL:PT1H
BEGIN:VTIMEZONE
TZID:America/Detroit
BEGIN:DAYLIGHT
TZOFFSETFROM:-0500
TZOFFSETTO:-0400
TZNAME:EDT
DTSTART:20270314T070000
END:DAYLIGHT
BEGIN:STANDARD
TZOFFSETFROM:-0400
TZOFFSETTO:-0500
TZNAME:EST
DTSTART:20271107T060000
END:STANDARD
BEGIN:DAYLIGHT
TZOFFSETFROM:-0500
TZOFFSETTO:-0400
TZNAME:EDT
DTSTART:20280312T070000
END:DAYLIGHT
BEGIN:STANDARD
TZOFFSETFROM:-0400
TZOFFSETTO:-0500
TZNAME:EST
DTSTART:20281105T060000
END:STANDARD
BEGIN:DAYLIGHT
TZOFFSETFROM:-0500
TZOFFSETTO:-0400
TZNAME:EDT
DTSTART:20290311T070000
END:DAYLIGHT
BEGIN:STANDARD
TZOFFSETFROM:-0400
TZOFFSETTO:-0500
TZNAME:EST
DTSTART:20291104T060000
END:STANDARD
BEGIN:DAYLIGHT
TZOFFSETFROM:-0500
TZOFFSETTO:-0400
TZNAME:EDT
DTSTART:20300310T070000
END:DAYLIGHT
BEGIN:STANDARD
TZOFFSETFROM:-0400
TZOFFSETTO:-0500
TZNAME:EST
DTSTART:20301103T060000
END:STANDARD
BEGIN:DAYLIGHT
TZOFFSETFROM:-0500
TZOFFSETTO:-0400
TZNAME:EDT
DTSTART:20310309T070000
END:DAYLIGHT
BEGIN:STANDARD
TZOFFSETFROM:-0400
TZOFFSETTO:-0500
TZNAME:EST
DTSTART:20311102T060000
END:STANDARD
END:VTIMEZONE
BEGIN:VEVENT
DTSTART;TZID=America/Detroit:20280215T190000
DTEND;TZID=America/Detroit:20280215T200000
DTSTAMP:20260421T012245
CREATED:20240105T160000Z
LAST-MODIFIED:20240105T160000Z
UID:10000913-1834254000-1834257600@www.cityofbangormi.org
SUMMARY:Bangor DDA Meeting
DESCRIPTION:
URL:https://www.cityofbangormi.org/event/bangor-dda-meeting-2-2/2028-02-15
LOCATION:Bangor City Hall\, 257 West Monroe Street\, Bangor\, MI\, 49013\, United States
CATEGORIES:DDA Meeting
END:VEVENT
BEGIN:VEVENT
DTSTART;TZID=America/Detroit:20280321T190000
DTEND;TZID=America/Detroit:20280321T200000
DTSTAMP:20260421T012245
CREATED:20240105T160000Z
LAST-MODIFIED:20240105T160000Z
UID:10000914-1837278000-1837281600@www.cityofbangormi.org
SUMMARY:Bangor DDA Meeting
DESCRIPTION:
URL:https://www.cityofbangormi.org/event/bangor-dda-meeting-2-2/2028-03-21
LOCATION:Bangor City Hall\, 257 West Monroe Street\, Bangor\, MI\, 49013\, United States
CATEGORIES:DDA Meeting
END:VEVENT
BEGIN:VEVENT
DTSTART;TZID=America/Detroit:20280418T190000
DTEND;TZID=America/Detroit:20280418T200000
DTSTAMP:20260421T012245
CREATED:20240105T160000Z
LAST-MODIFIED:20240105T160000Z
UID:10000915-1839697200-1839700800@www.cityofbangormi.org
SUMMARY:Bangor DDA Meeting
DESCRIPTION:
URL:https://www.cityofbangormi.org/event/bangor-dda-meeting-2-2/2028-04-18
LOCATION:Bangor City Hall\, 257 West Monroe Street\, Bangor\, MI\, 49013\, United States
CATEGORIES:DDA Meeting
END:VEVENT
BEGIN:VEVENT
DTSTART;TZID=America/Detroit:20280516T190000
DTEND;TZID=America/Detroit:20280516T200000
DTSTAMP:20260421T012245
CREATED:20240105T160000Z
LAST-MODIFIED:20240105T160000Z
UID:10000916-1842116400-1842120000@www.cityofbangormi.org
SUMMARY:Bangor DDA Meeting
DESCRIPTION:
URL:https://www.cityofbangormi.org/event/bangor-dda-meeting-2-2/2028-05-16
LOCATION:Bangor City Hall\, 257 West Monroe Street\, Bangor\, MI\, 49013\, United States
CATEGORIES:DDA Meeting
END:VEVENT
BEGIN:VEVENT
DTSTART;TZID=America/Detroit:20280620T190000
DTEND;TZID=America/Detroit:20280620T200000
DTSTAMP:20260421T012245
CREATED:20240105T160000Z
LAST-MODIFIED:20240105T160000Z
UID:10000917-1845140400-1845144000@www.cityofbangormi.org
SUMMARY:Bangor DDA Meeting
DESCRIPTION:
URL:https://www.cityofbangormi.org/event/bangor-dda-meeting-2-2/2028-06-20
LOCATION:Bangor City Hall\, 257 West Monroe Street\, Bangor\, MI\, 49013\, United States
CATEGORIES:DDA Meeting
END:VEVENT
BEGIN:VEVENT
DTSTART;TZID=America/Detroit:20280718T190000
DTEND;TZID=America/Detroit:20280718T200000
DTSTAMP:20260421T012245
CREATED:20240105T160000Z
LAST-MODIFIED:20240105T160000Z
UID:10000918-1847559600-1847563200@www.cityofbangormi.org
SUMMARY:Bangor DDA Meeting
DESCRIPTION:
URL:https://www.cityofbangormi.org/event/bangor-dda-meeting-2-2/2028-07-18
LOCATION:Bangor City Hall\, 257 West Monroe Street\, Bangor\, MI\, 49013\, United States
CATEGORIES:DDA Meeting
END:VEVENT
BEGIN:VEVENT
DTSTART;TZID=America/Detroit:20280815T190000
DTEND;TZID=America/Detroit:20280815T200000
DTSTAMP:20260421T012245
CREATED:20240105T160000Z
LAST-MODIFIED:20240105T160000Z
UID:10000919-1849978800-1849982400@www.cityofbangormi.org
SUMMARY:Bangor DDA Meeting
DESCRIPTION:
URL:https://www.cityofbangormi.org/event/bangor-dda-meeting-2-2/2028-08-15
LOCATION:Bangor City Hall\, 257 West Monroe Street\, Bangor\, MI\, 49013\, United States
CATEGORIES:DDA Meeting
END:VEVENT
BEGIN:VEVENT
DTSTART;TZID=America/Detroit:20280919T190000
DTEND;TZID=America/Detroit:20280919T200000
DTSTAMP:20260421T012245
CREATED:20240105T160000Z
LAST-MODIFIED:20240105T160000Z
UID:10000920-1853002800-1853006400@www.cityofbangormi.org
SUMMARY:Bangor DDA Meeting
DESCRIPTION:
URL:https://www.cityofbangormi.org/event/bangor-dda-meeting-2-2/2028-09-19
LOCATION:Bangor City Hall\, 257 West Monroe Street\, Bangor\, MI\, 49013\, United States
CATEGORIES:DDA Meeting
END:VEVENT
BEGIN:VEVENT
DTSTART;TZID=America/Detroit:20281017T190000
DTEND;TZID=America/Detroit:20281017T200000
DTSTAMP:20260421T012245
CREATED:20240105T160000Z
LAST-MODIFIED:20240105T160000Z
UID:10000921-1855422000-1855425600@www.cityofbangormi.org
SUMMARY:Bangor DDA Meeting
DESCRIPTION:
URL:https://www.cityofbangormi.org/event/bangor-dda-meeting-2-2/2028-10-17
LOCATION:Bangor City Hall\, 257 West Monroe Street\, Bangor\, MI\, 49013\, United States
CATEGORIES:DDA Meeting
END:VEVENT
BEGIN:VEVENT
DTSTART;TZID=America/Detroit:20281121T190000
DTEND;TZID=America/Detroit:20281121T200000
DTSTAMP:20260421T012245
CREATED:20240105T160000Z
LAST-MODIFIED:20240105T160000Z
UID:10000922-1858446000-1858449600@www.cityofbangormi.org
SUMMARY:Bangor DDA Meeting
DESCRIPTION:
URL:https://www.cityofbangormi.org/event/bangor-dda-meeting-2-2/2028-11-21
LOCATION:Bangor City Hall\, 257 West Monroe Street\, Bangor\, MI\, 49013\, United States
CATEGORIES:DDA Meeting
END:VEVENT
BEGIN:VEVENT
DTSTART;TZID=America/Detroit:20281219T190000
DTEND;TZID=America/Detroit:20281219T200000
DTSTAMP:20260421T012245
CREATED:20240105T160000Z
LAST-MODIFIED:20240105T160000Z
UID:10000923-1860865200-1860868800@www.cityofbangormi.org
SUMMARY:Bangor DDA Meeting
DESCRIPTION:
URL:https://www.cityofbangormi.org/event/bangor-dda-meeting-2-2/2028-12-19
LOCATION:Bangor City Hall\, 257 West Monroe Street\, Bangor\, MI\, 49013\, United States
CATEGORIES:DDA Meeting
END:VEVENT
BEGIN:VEVENT
DTSTART;TZID=America/Detroit:20290116T190000
DTEND;TZID=America/Detroit:20290116T200000
DTSTAMP:20260421T012245
CREATED:20240105T160000Z
LAST-MODIFIED:20240105T160000Z
UID:10001353-1863284400-1863288000@www.cityofbangormi.org
SUMMARY:Bangor DDA Meeting
DESCRIPTION:
URL:https://www.cityofbangormi.org/event/bangor-dda-meeting-2-2/2029-01-16
LOCATION:Bangor City Hall\, 257 West Monroe Street\, Bangor\, MI\, 49013\, United States
CATEGORIES:DDA Meeting
END:VEVENT
BEGIN:VEVENT
DTSTART;TZID=America/Detroit:20290220T190000
DTEND;TZID=America/Detroit:20290220T200000
DTSTAMP:20260421T012245
CREATED:20240105T160000Z
LAST-MODIFIED:20240105T160000Z
UID:10001354-1866308400-1866312000@www.cityofbangormi.org
SUMMARY:Bangor DDA Meeting
DESCRIPTION:
URL:https://www.cityofbangormi.org/event/bangor-dda-meeting-2-2/2029-02-20
LOCATION:Bangor City Hall\, 257 West Monroe Street\, Bangor\, MI\, 49013\, United States
CATEGORIES:DDA Meeting
END:VEVENT
BEGIN:VEVENT
DTSTART;TZID=America/Detroit:20290320T190000
DTEND;TZID=America/Detroit:20290320T200000
DTSTAMP:20260421T012245
CREATED:20240105T160000Z
LAST-MODIFIED:20240105T160000Z
UID:10001355-1868727600-1868731200@www.cityofbangormi.org
SUMMARY:Bangor DDA Meeting
DESCRIPTION:
URL:https://www.cityofbangormi.org/event/bangor-dda-meeting-2-2/2029-03-20
LOCATION:Bangor City Hall\, 257 West Monroe Street\, Bangor\, MI\, 49013\, United States
CATEGORIES:DDA Meeting
END:VEVENT
BEGIN:VEVENT
DTSTART;TZID=America/Detroit:20290417T190000
DTEND;TZID=America/Detroit:20290417T200000
DTSTAMP:20260421T012245
CREATED:20240105T160000Z
LAST-MODIFIED:20240105T160000Z
UID:10001356-1871146800-1871150400@www.cityofbangormi.org
SUMMARY:Bangor DDA Meeting
DESCRIPTION:
URL:https://www.cityofbangormi.org/event/bangor-dda-meeting-2-2/2029-04-17
LOCATION:Bangor City Hall\, 257 West Monroe Street\, Bangor\, MI\, 49013\, United States
CATEGORIES:DDA Meeting
END:VEVENT
BEGIN:VEVENT
DTSTART;TZID=America/Detroit:20290515T190000
DTEND;TZID=America/Detroit:20290515T200000
DTSTAMP:20260421T012245
CREATED:20240105T160000Z
LAST-MODIFIED:20240105T160000Z
UID:10001357-1873566000-1873569600@www.cityofbangormi.org
SUMMARY:Bangor DDA Meeting
DESCRIPTION:
URL:https://www.cityofbangormi.org/event/bangor-dda-meeting-2-2/2029-05-15
LOCATION:Bangor City Hall\, 257 West Monroe Street\, Bangor\, MI\, 49013\, United States
CATEGORIES:DDA Meeting
END:VEVENT
BEGIN:VEVENT
DTSTART;TZID=America/Detroit:20290619T190000
DTEND;TZID=America/Detroit:20290619T200000
DTSTAMP:20260421T012245
CREATED:20240105T160000Z
LAST-MODIFIED:20240105T160000Z
UID:10001358-1876590000-1876593600@www.cityofbangormi.org
SUMMARY:Bangor DDA Meeting
DESCRIPTION:
URL:https://www.cityofbangormi.org/event/bangor-dda-meeting-2-2/2029-06-19
LOCATION:Bangor City Hall\, 257 West Monroe Street\, Bangor\, MI\, 49013\, United States
CATEGORIES:DDA Meeting
END:VEVENT
BEGIN:VEVENT
DTSTART;TZID=America/Detroit:20290717T190000
DTEND;TZID=America/Detroit:20290717T200000
DTSTAMP:20260421T012245
CREATED:20240105T160000Z
LAST-MODIFIED:20240105T160000Z
UID:10001359-1879009200-1879012800@www.cityofbangormi.org
SUMMARY:Bangor DDA Meeting
DESCRIPTION:
URL:https://www.cityofbangormi.org/event/bangor-dda-meeting-2-2/2029-07-17
LOCATION:Bangor City Hall\, 257 West Monroe Street\, Bangor\, MI\, 49013\, United States
CATEGORIES:DDA Meeting
END:VEVENT
BEGIN:VEVENT
DTSTART;TZID=America/Detroit:20290821T190000
DTEND;TZID=America/Detroit:20290821T200000
DTSTAMP:20260421T012245
CREATED:20240105T160000Z
LAST-MODIFIED:20240105T160000Z
UID:10001360-1882033200-1882036800@www.cityofbangormi.org
SUMMARY:Bangor DDA Meeting
DESCRIPTION:
URL:https://www.cityofbangormi.org/event/bangor-dda-meeting-2-2/2029-08-21
LOCATION:Bangor City Hall\, 257 West Monroe Street\, Bangor\, MI\, 49013\, United States
CATEGORIES:DDA Meeting
END:VEVENT
BEGIN:VEVENT
DTSTART;TZID=America/Detroit:20290918T190000
DTEND;TZID=America/Detroit:20290918T200000
DTSTAMP:20260421T012245
CREATED:20240105T160000Z
LAST-MODIFIED:20240105T160000Z
UID:10001361-1884452400-1884456000@www.cityofbangormi.org
SUMMARY:Bangor DDA Meeting
DESCRIPTION:
URL:https://www.cityofbangormi.org/event/bangor-dda-meeting-2-2/2029-09-18
LOCATION:Bangor City Hall\, 257 West Monroe Street\, Bangor\, MI\, 49013\, United States
CATEGORIES:DDA Meeting
END:VEVENT
BEGIN:VEVENT
DTSTART;TZID=America/Detroit:20291016T190000
DTEND;TZID=America/Detroit:20291016T200000
DTSTAMP:20260421T012245
CREATED:20240105T160000Z
LAST-MODIFIED:20240105T160000Z
UID:10001362-1886871600-1886875200@www.cityofbangormi.org
SUMMARY:Bangor DDA Meeting
DESCRIPTION:
URL:https://www.cityofbangormi.org/event/bangor-dda-meeting-2-2/2029-10-16
LOCATION:Bangor City Hall\, 257 West Monroe Street\, Bangor\, MI\, 49013\, United States
CATEGORIES:DDA Meeting
END:VEVENT
BEGIN:VEVENT
DTSTART;TZID=America/Detroit:20291120T190000
DTEND;TZID=America/Detroit:20291120T200000
DTSTAMP:20260421T012245
CREATED:20240105T160000Z
LAST-MODIFIED:20240105T160000Z
UID:10001363-1889895600-1889899200@www.cityofbangormi.org
SUMMARY:Bangor DDA Meeting
DESCRIPTION:
URL:https://www.cityofbangormi.org/event/bangor-dda-meeting-2-2/2029-11-20
LOCATION:Bangor City Hall\, 257 West Monroe Street\, Bangor\, MI\, 49013\, United States
CATEGORIES:DDA Meeting
END:VEVENT
BEGIN:VEVENT
DTSTART;TZID=America/Detroit:20291218T190000
DTEND;TZID=America/Detroit:20291218T200000
DTSTAMP:20260421T012245
CREATED:20240105T160000Z
LAST-MODIFIED:20240105T160000Z
UID:10001364-1892314800-1892318400@www.cityofbangormi.org
SUMMARY:Bangor DDA Meeting
DESCRIPTION:
URL:https://www.cityofbangormi.org/event/bangor-dda-meeting-2-2/2029-12-18
LOCATION:Bangor City Hall\, 257 West Monroe Street\, Bangor\, MI\, 49013\, United States
CATEGORIES:DDA Meeting
END:VEVENT
BEGIN:VEVENT
DTSTART;TZID=America/Detroit:20300115T190000
DTEND;TZID=America/Detroit:20300115T200000
DTSTAMP:20260421T012245
CREATED:20240105T160000Z
LAST-MODIFIED:20240105T160000Z
UID:10001365-1894734000-1894737600@www.cityofbangormi.org
SUMMARY:Bangor DDA Meeting
DESCRIPTION:
URL:https://www.cityofbangormi.org/event/bangor-dda-meeting-2-2/2030-01-15
LOCATION:Bangor City Hall\, 257 West Monroe Street\, Bangor\, MI\, 49013\, United States
CATEGORIES:DDA Meeting
END:VEVENT
BEGIN:VEVENT
DTSTART;TZID=America/Detroit:20300219T190000
DTEND;TZID=America/Detroit:20300219T200000
DTSTAMP:20260421T012245
CREATED:20240105T160000Z
LAST-MODIFIED:20240105T160000Z
UID:10001366-1897758000-1897761600@www.cityofbangormi.org
SUMMARY:Bangor DDA Meeting
DESCRIPTION:
URL:https://www.cityofbangormi.org/event/bangor-dda-meeting-2-2/2030-02-19
LOCATION:Bangor City Hall\, 257 West Monroe Street\, Bangor\, MI\, 49013\, United States
CATEGORIES:DDA Meeting
END:VEVENT
BEGIN:VEVENT
DTSTART;TZID=America/Detroit:20300319T190000
DTEND;TZID=America/Detroit:20300319T200000
DTSTAMP:20260421T012245
CREATED:20240105T160000Z
LAST-MODIFIED:20240105T160000Z
UID:10001367-1900177200-1900180800@www.cityofbangormi.org
SUMMARY:Bangor DDA Meeting
DESCRIPTION:
URL:https://www.cityofbangormi.org/event/bangor-dda-meeting-2-2/2030-03-19
LOCATION:Bangor City Hall\, 257 West Monroe Street\, Bangor\, MI\, 49013\, United States
CATEGORIES:DDA Meeting
END:VEVENT
BEGIN:VEVENT
DTSTART;TZID=America/Detroit:20300416T190000
DTEND;TZID=America/Detroit:20300416T200000
DTSTAMP:20260421T012245
CREATED:20240105T160000Z
LAST-MODIFIED:20240105T160000Z
UID:10001368-1902596400-1902600000@www.cityofbangormi.org
SUMMARY:Bangor DDA Meeting
DESCRIPTION:
URL:https://www.cityofbangormi.org/event/bangor-dda-meeting-2-2/2030-04-16
LOCATION:Bangor City Hall\, 257 West Monroe Street\, Bangor\, MI\, 49013\, United States
CATEGORIES:DDA Meeting
END:VEVENT
BEGIN:VEVENT
DTSTART;TZID=America/Detroit:20300521T190000
DTEND;TZID=America/Detroit:20300521T200000
DTSTAMP:20260421T012245
CREATED:20240105T160000Z
LAST-MODIFIED:20240105T160000Z
UID:10001369-1905620400-1905624000@www.cityofbangormi.org
SUMMARY:Bangor DDA Meeting
DESCRIPTION:
URL:https://www.cityofbangormi.org/event/bangor-dda-meeting-2-2/2030-05-21
LOCATION:Bangor City Hall\, 257 West Monroe Street\, Bangor\, MI\, 49013\, United States
CATEGORIES:DDA Meeting
END:VEVENT
BEGIN:VEVENT
DTSTART;TZID=America/Detroit:20300618T190000
DTEND;TZID=America/Detroit:20300618T200000
DTSTAMP:20260421T012245
CREATED:20240105T160000Z
LAST-MODIFIED:20240105T160000Z
UID:10001370-1908039600-1908043200@www.cityofbangormi.org
SUMMARY:Bangor DDA Meeting
DESCRIPTION:
URL:https://www.cityofbangormi.org/event/bangor-dda-meeting-2-2/2030-06-18
LOCATION:Bangor City Hall\, 257 West Monroe Street\, Bangor\, MI\, 49013\, United States
CATEGORIES:DDA Meeting
END:VEVENT
BEGIN:VEVENT
DTSTART;TZID=America/Detroit:20300716T190000
DTEND;TZID=America/Detroit:20300716T200000
DTSTAMP:20260421T012245
CREATED:20240105T160000Z
LAST-MODIFIED:20240105T160000Z
UID:10001371-1910458800-1910462400@www.cityofbangormi.org
SUMMARY:Bangor DDA Meeting
DESCRIPTION:
URL:https://www.cityofbangormi.org/event/bangor-dda-meeting-2-2/2030-07-16
LOCATION:Bangor City Hall\, 257 West Monroe Street\, Bangor\, MI\, 49013\, United States
CATEGORIES:DDA Meeting
END:VEVENT
END:VCALENDAR