BEGIN:VCALENDAR
VERSION:2.0
PRODID:-//City of Bangor - ECPv6.15.20//NONSGML v1.0//EN
CALSCALE:GREGORIAN
METHOD:PUBLISH
X-ORIGINAL-URL:https://www.cityofbangormi.org
X-WR-CALDESC:Events for City of Bangor
REFRESH-INTERVAL;VALUE=DURATION:PT1H
X-Robots-Tag:noindex
X-PUBLISHED-TTL:PT1H
BEGIN:VTIMEZONE
TZID:America/Detroit
BEGIN:DAYLIGHT
TZOFFSETFROM:-0500
TZOFFSETTO:-0400
TZNAME:EDT
DTSTART:20250309T070000
END:DAYLIGHT
BEGIN:STANDARD
TZOFFSETFROM:-0400
TZOFFSETTO:-0500
TZNAME:EST
DTSTART:20251102T060000
END:STANDARD
BEGIN:DAYLIGHT
TZOFFSETFROM:-0500
TZOFFSETTO:-0400
TZNAME:EDT
DTSTART:20260308T070000
END:DAYLIGHT
BEGIN:STANDARD
TZOFFSETFROM:-0400
TZOFFSETTO:-0500
TZNAME:EST
DTSTART:20261101T060000
END:STANDARD
BEGIN:DAYLIGHT
TZOFFSETFROM:-0500
TZOFFSETTO:-0400
TZNAME:EDT
DTSTART:20270314T070000
END:DAYLIGHT
BEGIN:STANDARD
TZOFFSETFROM:-0400
TZOFFSETTO:-0500
TZNAME:EST
DTSTART:20271107T060000
END:STANDARD
BEGIN:DAYLIGHT
TZOFFSETFROM:-0500
TZOFFSETTO:-0400
TZNAME:EDT
DTSTART:20280312T070000
END:DAYLIGHT
BEGIN:STANDARD
TZOFFSETFROM:-0400
TZOFFSETTO:-0500
TZNAME:EST
DTSTART:20281105T060000
END:STANDARD
END:VTIMEZONE
BEGIN:VEVENT
DTSTART;TZID=America/Detroit:20260105T190000
DTEND;TZID=America/Detroit:20260105T190000
DTSTAMP:20260421T051018
CREATED:20240820T194337Z
LAST-MODIFIED:20240820T194732Z
UID:10001187-1767639600-1767639600@www.cityofbangormi.org
SUMMARY:City Council Meeting
DESCRIPTION:The City Council regularly meets the first and third Monday of each month at 7:00 PM Eastern Time in the Council Room at City Hall\, 257 West Monroe Street\, Bangor\, MI 49013. When Monday falls on a legal holiday meetings are moved to the next day. It is important to check the Calendar to confirm meeting dates\, times\, and details.
URL:https://www.cityofbangormi.org/event/city-council-meeting-3/2026-01-05
LOCATION:Bangor City Hall\, 257 West Monroe Street\, Bangor\, MI\, 49013\, United States
CATEGORIES:City Council Meeting
END:VEVENT
BEGIN:VEVENT
DTSTART;TZID=America/Detroit:20260120T190000
DTEND;TZID=America/Detroit:20260120T200000
DTSTAMP:20260421T051018
CREATED:20251204T190209Z
LAST-MODIFIED:20251204T190209Z
UID:10001456-1768935600-1768939200@www.cityofbangormi.org
SUMMARY:City Council Regular Meeting
DESCRIPTION:
URL:https://www.cityofbangormi.org/event/city-council-regular-meeting-2
LOCATION:Bangor City Hall\, 257 West Monroe Street\, Bangor\, MI\, 49013\, United States
CATEGORIES:City Council Meeting
END:VEVENT
BEGIN:VEVENT
DTSTART;TZID=America/Detroit:20260202T190000
DTEND;TZID=America/Detroit:20260202T190000
DTSTAMP:20260421T051018
CREATED:20240820T194337Z
LAST-MODIFIED:20240820T194732Z
UID:10001188-1770058800-1770058800@www.cityofbangormi.org
SUMMARY:City Council Meeting
DESCRIPTION:The City Council regularly meets the first and third Monday of each month at 7:00 PM Eastern Time in the Council Room at City Hall\, 257 West Monroe Street\, Bangor\, MI 49013. When Monday falls on a legal holiday meetings are moved to the next day. It is important to check the Calendar to confirm meeting dates\, times\, and details.
URL:https://www.cityofbangormi.org/event/city-council-meeting-3/2026-02-02
LOCATION:Bangor City Hall\, 257 West Monroe Street\, Bangor\, MI\, 49013\, United States
CATEGORIES:City Council Meeting
END:VEVENT
BEGIN:VEVENT
DTSTART;TZID=America/Detroit:20260203T180000
DTEND;TZID=America/Detroit:20260203T190000
DTSTAMP:20260421T051018
CREATED:20260130T172243Z
LAST-MODIFIED:20260130T172243Z
UID:10001464-1770141600-1770145200@www.cityofbangormi.org
SUMMARY:Council Budget Workshop
DESCRIPTION:
URL:https://www.cityofbangormi.org/event/council-budget-workshop
LOCATION:MI
CATEGORIES:City Council Meeting
END:VEVENT
BEGIN:VEVENT
DTSTART;TZID=America/Detroit:20260217T180000
DTEND;TZID=America/Detroit:20260217T190000
DTSTAMP:20260421T051018
CREATED:20260211T164637Z
LAST-MODIFIED:20260211T164637Z
UID:10001466-1771351200-1771354800@www.cityofbangormi.org
SUMMARY:Committee of the Whole Meeting of the City Council
DESCRIPTION:Notice of a Committee of the Whole (COTW) Meeting of the City Council \nTuesday\, February 17\, 2026 at 6PM at 257 W Monroe St Bangor\, MI 49013 \nPlease Note: The Regular City Council meeting will immediately follow this meeting at 7PM.
URL:https://www.cityofbangormi.org/event/committee-of-the-whole-meeting-of-the-city-council
LOCATION:MI
CATEGORIES:City Council Meeting
END:VEVENT
BEGIN:VEVENT
DTSTART;TZID=America/Detroit:20260217T190000
DTEND;TZID=America/Detroit:20260217T200000
DTSTAMP:20260421T051018
CREATED:20251204T192032Z
LAST-MODIFIED:20251204T192105Z
UID:10001459-1771354800-1771358400@www.cityofbangormi.org
SUMMARY:City Council Regular Meeting
DESCRIPTION:
URL:https://www.cityofbangormi.org/event/city-council-regular-meeting-3
LOCATION:MI
CATEGORIES:City Council Meeting
END:VEVENT
BEGIN:VEVENT
DTSTART;TZID=America/Detroit:20260302T190000
DTEND;TZID=America/Detroit:20260302T190000
DTSTAMP:20260421T051018
CREATED:20240820T194337Z
LAST-MODIFIED:20240820T194732Z
UID:10001189-1772478000-1772478000@www.cityofbangormi.org
SUMMARY:City Council Meeting
DESCRIPTION:The City Council regularly meets the first and third Monday of each month at 7:00 PM Eastern Time in the Council Room at City Hall\, 257 West Monroe Street\, Bangor\, MI 49013. When Monday falls on a legal holiday meetings are moved to the next day. It is important to check the Calendar to confirm meeting dates\, times\, and details.
URL:https://www.cityofbangormi.org/event/city-council-meeting-3/2026-03-02
LOCATION:Bangor City Hall\, 257 West Monroe Street\, Bangor\, MI\, 49013\, United States
CATEGORIES:City Council Meeting
END:VEVENT
BEGIN:VEVENT
DTSTART;TZID=America/Detroit:20260316T190000
DTEND;TZID=America/Detroit:20260316T200000
DTSTAMP:20260421T051018
CREATED:20240105T155431Z
LAST-MODIFIED:20240105T160328Z
UID:10000797-1773687600-1773691200@www.cityofbangormi.org
SUMMARY:City Council Meeting
DESCRIPTION:The City Council regularly meets the first and third Monday of each month at 7:00 PM Eastern Time in the Council Room at City Hall\, 257 West Monroe Street\, Bangor\, MI 49013. When Monday falls on a legal holiday meetings are moved to the next day. It is important to check the Calendar to confirm meeting dates\, times\, and details.
URL:https://www.cityofbangormi.org/event/city-council-meeting-2/2026-03-16
LOCATION:Bangor City Hall\, 257 West Monroe Street\, Bangor\, MI\, 49013\, United States
CATEGORIES:City Council Meeting
END:VEVENT
BEGIN:VEVENT
DTSTART;TZID=America/Detroit:20260317T180000
DTEND;TZID=America/Detroit:20260317T190000
DTSTAMP:20260421T051018
CREATED:20260317T004526Z
LAST-MODIFIED:20260317T004526Z
UID:10001483-1773770400-1773774000@www.cityofbangormi.org
SUMMARY:City Council & DDA Joint Meeting
DESCRIPTION:
URL:https://www.cityofbangormi.org/event/city-council-dda-joint-meeting
LOCATION:MI
CATEGORIES:City Council Meeting,DDA Meeting
END:VEVENT
BEGIN:VEVENT
DTSTART;TZID=America/Detroit:20260325T143000
DTEND;TZID=America/Detroit:20260325T160000
DTSTAMP:20260421T051018
CREATED:20251204T192315Z
LAST-MODIFIED:20251204T192315Z
UID:10001461-1774449000-1774454400@www.cityofbangormi.org
SUMMARY:City Council Budget Workshop
DESCRIPTION:
URL:https://www.cityofbangormi.org/event/city-council-budget-workshop-3
LOCATION:MI
CATEGORIES:City Council Meeting
END:VEVENT
BEGIN:VEVENT
DTSTART;TZID=America/Detroit:20260406T190000
DTEND;TZID=America/Detroit:20260406T190000
DTSTAMP:20260421T051018
CREATED:20240820T194337Z
LAST-MODIFIED:20240820T194732Z
UID:10001190-1775502000-1775502000@www.cityofbangormi.org
SUMMARY:City Council Meeting
DESCRIPTION:The City Council regularly meets the first and third Monday of each month at 7:00 PM Eastern Time in the Council Room at City Hall\, 257 West Monroe Street\, Bangor\, MI 49013. When Monday falls on a legal holiday meetings are moved to the next day. It is important to check the Calendar to confirm meeting dates\, times\, and details.
URL:https://www.cityofbangormi.org/event/city-council-meeting-3/2026-04-06
LOCATION:Bangor City Hall\, 257 West Monroe Street\, Bangor\, MI\, 49013\, United States
CATEGORIES:City Council Meeting
END:VEVENT
BEGIN:VEVENT
DTSTART;TZID=America/Detroit:20260414T183000
DTEND;TZID=America/Detroit:20260414T193000
DTSTAMP:20260421T051018
CREATED:20260410T182318Z
LAST-MODIFIED:20260410T182349Z
UID:10001489-1776191400-1776195000@www.cityofbangormi.org
SUMMARY:Special Meeting City Council
DESCRIPTION:
URL:https://www.cityofbangormi.org/event/special-meeting-city-council
LOCATION:MI
CATEGORIES:City Council Meeting
END:VEVENT
BEGIN:VEVENT
DTSTART;TZID=America/Detroit:20260420T190000
DTEND;TZID=America/Detroit:20260420T200000
DTSTAMP:20260421T051018
CREATED:20240105T155431Z
LAST-MODIFIED:20240105T160328Z
UID:10000941-1776711600-1776715200@www.cityofbangormi.org
SUMMARY:City Council Meeting
DESCRIPTION:The City Council regularly meets the first and third Monday of each month at 7:00 PM Eastern Time in the Council Room at City Hall\, 257 West Monroe Street\, Bangor\, MI 49013. When Monday falls on a legal holiday meetings are moved to the next day. It is important to check the Calendar to confirm meeting dates\, times\, and details.
URL:https://www.cityofbangormi.org/event/city-council-meeting-2/2026-04-20
LOCATION:Bangor City Hall\, 257 West Monroe Street\, Bangor\, MI\, 49013\, United States
CATEGORIES:City Council Meeting
END:VEVENT
BEGIN:VEVENT
DTSTART;TZID=America/Detroit:20260504T190000
DTEND;TZID=America/Detroit:20260504T190000
DTSTAMP:20260421T051018
CREATED:20240820T194337Z
LAST-MODIFIED:20240820T194732Z
UID:10001191-1777921200-1777921200@www.cityofbangormi.org
SUMMARY:City Council Meeting
DESCRIPTION:The City Council regularly meets the first and third Monday of each month at 7:00 PM Eastern Time in the Council Room at City Hall\, 257 West Monroe Street\, Bangor\, MI 49013. When Monday falls on a legal holiday meetings are moved to the next day. It is important to check the Calendar to confirm meeting dates\, times\, and details.
URL:https://www.cityofbangormi.org/event/city-council-meeting-3/2026-05-04
LOCATION:Bangor City Hall\, 257 West Monroe Street\, Bangor\, MI\, 49013\, United States
CATEGORIES:City Council Meeting
END:VEVENT
BEGIN:VEVENT
DTSTART;TZID=America/Detroit:20260518T190000
DTEND;TZID=America/Detroit:20260518T200000
DTSTAMP:20260421T051018
CREATED:20240105T155431Z
LAST-MODIFIED:20240105T160328Z
UID:10000942-1779130800-1779134400@www.cityofbangormi.org
SUMMARY:City Council Meeting
DESCRIPTION:The City Council regularly meets the first and third Monday of each month at 7:00 PM Eastern Time in the Council Room at City Hall\, 257 West Monroe Street\, Bangor\, MI 49013. When Monday falls on a legal holiday meetings are moved to the next day. It is important to check the Calendar to confirm meeting dates\, times\, and details.
URL:https://www.cityofbangormi.org/event/city-council-meeting-2/2026-05-18
LOCATION:Bangor City Hall\, 257 West Monroe Street\, Bangor\, MI\, 49013\, United States
CATEGORIES:City Council Meeting
END:VEVENT
BEGIN:VEVENT
DTSTART;TZID=America/Detroit:20260601T190000
DTEND;TZID=America/Detroit:20260601T190000
DTSTAMP:20260421T051018
CREATED:20240820T194337Z
LAST-MODIFIED:20240820T194732Z
UID:10001192-1780340400-1780340400@www.cityofbangormi.org
SUMMARY:City Council Meeting
DESCRIPTION:The City Council regularly meets the first and third Monday of each month at 7:00 PM Eastern Time in the Council Room at City Hall\, 257 West Monroe Street\, Bangor\, MI 49013. When Monday falls on a legal holiday meetings are moved to the next day. It is important to check the Calendar to confirm meeting dates\, times\, and details.
URL:https://www.cityofbangormi.org/event/city-council-meeting-3/2026-06-01
LOCATION:Bangor City Hall\, 257 West Monroe Street\, Bangor\, MI\, 49013\, United States
CATEGORIES:City Council Meeting
END:VEVENT
BEGIN:VEVENT
DTSTART;TZID=America/Detroit:20260615T190000
DTEND;TZID=America/Detroit:20260615T200000
DTSTAMP:20260421T051018
CREATED:20240105T155431Z
LAST-MODIFIED:20240105T160328Z
UID:10000798-1781550000-1781553600@www.cityofbangormi.org
SUMMARY:City Council Meeting
DESCRIPTION:The City Council regularly meets the first and third Monday of each month at 7:00 PM Eastern Time in the Council Room at City Hall\, 257 West Monroe Street\, Bangor\, MI 49013. When Monday falls on a legal holiday meetings are moved to the next day. It is important to check the Calendar to confirm meeting dates\, times\, and details.
URL:https://www.cityofbangormi.org/event/city-council-meeting-2/2026-06-15
LOCATION:Bangor City Hall\, 257 West Monroe Street\, Bangor\, MI\, 49013\, United States
CATEGORIES:City Council Meeting
END:VEVENT
BEGIN:VEVENT
DTSTART;TZID=America/Detroit:20260706T190000
DTEND;TZID=America/Detroit:20260706T190000
DTSTAMP:20260421T051018
CREATED:20240820T194337Z
LAST-MODIFIED:20240820T194732Z
UID:10001193-1783364400-1783364400@www.cityofbangormi.org
SUMMARY:City Council Meeting
DESCRIPTION:The City Council regularly meets the first and third Monday of each month at 7:00 PM Eastern Time in the Council Room at City Hall\, 257 West Monroe Street\, Bangor\, MI 49013. When Monday falls on a legal holiday meetings are moved to the next day. It is important to check the Calendar to confirm meeting dates\, times\, and details.
URL:https://www.cityofbangormi.org/event/city-council-meeting-3/2026-07-06
LOCATION:Bangor City Hall\, 257 West Monroe Street\, Bangor\, MI\, 49013\, United States
CATEGORIES:City Council Meeting
END:VEVENT
BEGIN:VEVENT
DTSTART;TZID=America/Detroit:20260720T190000
DTEND;TZID=America/Detroit:20260720T200000
DTSTAMP:20260421T051018
CREATED:20240105T155431Z
LAST-MODIFIED:20240105T160328Z
UID:10000943-1784574000-1784577600@www.cityofbangormi.org
SUMMARY:City Council Meeting
DESCRIPTION:The City Council regularly meets the first and third Monday of each month at 7:00 PM Eastern Time in the Council Room at City Hall\, 257 West Monroe Street\, Bangor\, MI 49013. When Monday falls on a legal holiday meetings are moved to the next day. It is important to check the Calendar to confirm meeting dates\, times\, and details.
URL:https://www.cityofbangormi.org/event/city-council-meeting-2/2026-07-20
LOCATION:Bangor City Hall\, 257 West Monroe Street\, Bangor\, MI\, 49013\, United States
CATEGORIES:City Council Meeting
END:VEVENT
BEGIN:VEVENT
DTSTART;TZID=America/Detroit:20260803T190000
DTEND;TZID=America/Detroit:20260803T190000
DTSTAMP:20260421T051018
CREATED:20240820T194337Z
LAST-MODIFIED:20240820T194732Z
UID:10001194-1785783600-1785783600@www.cityofbangormi.org
SUMMARY:City Council Meeting
DESCRIPTION:The City Council regularly meets the first and third Monday of each month at 7:00 PM Eastern Time in the Council Room at City Hall\, 257 West Monroe Street\, Bangor\, MI 49013. When Monday falls on a legal holiday meetings are moved to the next day. It is important to check the Calendar to confirm meeting dates\, times\, and details.
URL:https://www.cityofbangormi.org/event/city-council-meeting-3/2026-08-03
LOCATION:Bangor City Hall\, 257 West Monroe Street\, Bangor\, MI\, 49013\, United States
CATEGORIES:City Council Meeting
END:VEVENT
BEGIN:VEVENT
DTSTART;TZID=America/Detroit:20260817T190000
DTEND;TZID=America/Detroit:20260817T200000
DTSTAMP:20260421T051018
CREATED:20240105T155431Z
LAST-MODIFIED:20240105T160328Z
UID:10000944-1786993200-1786996800@www.cityofbangormi.org
SUMMARY:City Council Meeting
DESCRIPTION:The City Council regularly meets the first and third Monday of each month at 7:00 PM Eastern Time in the Council Room at City Hall\, 257 West Monroe Street\, Bangor\, MI 49013. When Monday falls on a legal holiday meetings are moved to the next day. It is important to check the Calendar to confirm meeting dates\, times\, and details.
URL:https://www.cityofbangormi.org/event/city-council-meeting-2/2026-08-17
LOCATION:Bangor City Hall\, 257 West Monroe Street\, Bangor\, MI\, 49013\, United States
CATEGORIES:City Council Meeting
END:VEVENT
BEGIN:VEVENT
DTSTART;TZID=America/Detroit:20260907T190000
DTEND;TZID=America/Detroit:20260907T190000
DTSTAMP:20260421T051018
CREATED:20240820T194337Z
LAST-MODIFIED:20240820T194732Z
UID:10001195-1788807600-1788807600@www.cityofbangormi.org
SUMMARY:City Council Meeting
DESCRIPTION:The City Council regularly meets the first and third Monday of each month at 7:00 PM Eastern Time in the Council Room at City Hall\, 257 West Monroe Street\, Bangor\, MI 49013. When Monday falls on a legal holiday meetings are moved to the next day. It is important to check the Calendar to confirm meeting dates\, times\, and details.
URL:https://www.cityofbangormi.org/event/city-council-meeting-3/2026-09-07
LOCATION:Bangor City Hall\, 257 West Monroe Street\, Bangor\, MI\, 49013\, United States
CATEGORIES:City Council Meeting
END:VEVENT
BEGIN:VEVENT
DTSTART;TZID=America/Detroit:20260921T190000
DTEND;TZID=America/Detroit:20260921T200000
DTSTAMP:20260421T051018
CREATED:20240105T155431Z
LAST-MODIFIED:20240105T160328Z
UID:10000799-1790017200-1790020800@www.cityofbangormi.org
SUMMARY:City Council Meeting
DESCRIPTION:The City Council regularly meets the first and third Monday of each month at 7:00 PM Eastern Time in the Council Room at City Hall\, 257 West Monroe Street\, Bangor\, MI 49013. When Monday falls on a legal holiday meetings are moved to the next day. It is important to check the Calendar to confirm meeting dates\, times\, and details.
URL:https://www.cityofbangormi.org/event/city-council-meeting-2/2026-09-21
LOCATION:Bangor City Hall\, 257 West Monroe Street\, Bangor\, MI\, 49013\, United States
CATEGORIES:City Council Meeting
END:VEVENT
BEGIN:VEVENT
DTSTART;TZID=America/Detroit:20261005T190000
DTEND;TZID=America/Detroit:20261005T190000
DTSTAMP:20260421T051018
CREATED:20240820T194337Z
LAST-MODIFIED:20240820T194732Z
UID:10001196-1791226800-1791226800@www.cityofbangormi.org
SUMMARY:City Council Meeting
DESCRIPTION:The City Council regularly meets the first and third Monday of each month at 7:00 PM Eastern Time in the Council Room at City Hall\, 257 West Monroe Street\, Bangor\, MI 49013. When Monday falls on a legal holiday meetings are moved to the next day. It is important to check the Calendar to confirm meeting dates\, times\, and details.
URL:https://www.cityofbangormi.org/event/city-council-meeting-3/2026-10-05
LOCATION:Bangor City Hall\, 257 West Monroe Street\, Bangor\, MI\, 49013\, United States
CATEGORIES:City Council Meeting
END:VEVENT
BEGIN:VEVENT
DTSTART;TZID=America/Detroit:20261019T190000
DTEND;TZID=America/Detroit:20261019T200000
DTSTAMP:20260421T051018
CREATED:20240105T155431Z
LAST-MODIFIED:20240105T160328Z
UID:10000945-1792436400-1792440000@www.cityofbangormi.org
SUMMARY:City Council Meeting
DESCRIPTION:The City Council regularly meets the first and third Monday of each month at 7:00 PM Eastern Time in the Council Room at City Hall\, 257 West Monroe Street\, Bangor\, MI 49013. When Monday falls on a legal holiday meetings are moved to the next day. It is important to check the Calendar to confirm meeting dates\, times\, and details.
URL:https://www.cityofbangormi.org/event/city-council-meeting-2/2026-10-19
LOCATION:Bangor City Hall\, 257 West Monroe Street\, Bangor\, MI\, 49013\, United States
CATEGORIES:City Council Meeting
END:VEVENT
BEGIN:VEVENT
DTSTART;TZID=America/Detroit:20261102T190000
DTEND;TZID=America/Detroit:20261102T190000
DTSTAMP:20260421T051018
CREATED:20240820T194337Z
LAST-MODIFIED:20240820T194732Z
UID:10001197-1793646000-1793646000@www.cityofbangormi.org
SUMMARY:City Council Meeting
DESCRIPTION:The City Council regularly meets the first and third Monday of each month at 7:00 PM Eastern Time in the Council Room at City Hall\, 257 West Monroe Street\, Bangor\, MI 49013. When Monday falls on a legal holiday meetings are moved to the next day. It is important to check the Calendar to confirm meeting dates\, times\, and details.
URL:https://www.cityofbangormi.org/event/city-council-meeting-3/2026-11-02
LOCATION:Bangor City Hall\, 257 West Monroe Street\, Bangor\, MI\, 49013\, United States
CATEGORIES:City Council Meeting
END:VEVENT
BEGIN:VEVENT
DTSTART;TZID=America/Detroit:20261116T190000
DTEND;TZID=America/Detroit:20261116T200000
DTSTAMP:20260421T051018
CREATED:20240105T155431Z
LAST-MODIFIED:20240105T160328Z
UID:10000946-1794855600-1794859200@www.cityofbangormi.org
SUMMARY:City Council Meeting
DESCRIPTION:The City Council regularly meets the first and third Monday of each month at 7:00 PM Eastern Time in the Council Room at City Hall\, 257 West Monroe Street\, Bangor\, MI 49013. When Monday falls on a legal holiday meetings are moved to the next day. It is important to check the Calendar to confirm meeting dates\, times\, and details.
URL:https://www.cityofbangormi.org/event/city-council-meeting-2/2026-11-16
LOCATION:Bangor City Hall\, 257 West Monroe Street\, Bangor\, MI\, 49013\, United States
CATEGORIES:City Council Meeting
END:VEVENT
BEGIN:VEVENT
DTSTART;TZID=America/Detroit:20261207T190000
DTEND;TZID=America/Detroit:20261207T190000
DTSTAMP:20260421T051018
CREATED:20240820T194337Z
LAST-MODIFIED:20240820T194732Z
UID:10001198-1796670000-1796670000@www.cityofbangormi.org
SUMMARY:City Council Meeting
DESCRIPTION:The City Council regularly meets the first and third Monday of each month at 7:00 PM Eastern Time in the Council Room at City Hall\, 257 West Monroe Street\, Bangor\, MI 49013. When Monday falls on a legal holiday meetings are moved to the next day. It is important to check the Calendar to confirm meeting dates\, times\, and details.
URL:https://www.cityofbangormi.org/event/city-council-meeting-3/2026-12-07
LOCATION:Bangor City Hall\, 257 West Monroe Street\, Bangor\, MI\, 49013\, United States
CATEGORIES:City Council Meeting
END:VEVENT
BEGIN:VEVENT
DTSTART;TZID=America/Detroit:20261221T190000
DTEND;TZID=America/Detroit:20261221T200000
DTSTAMP:20260421T051018
CREATED:20240105T155431Z
LAST-MODIFIED:20240105T160328Z
UID:10000800-1797879600-1797883200@www.cityofbangormi.org
SUMMARY:City Council Meeting
DESCRIPTION:The City Council regularly meets the first and third Monday of each month at 7:00 PM Eastern Time in the Council Room at City Hall\, 257 West Monroe Street\, Bangor\, MI 49013. When Monday falls on a legal holiday meetings are moved to the next day. It is important to check the Calendar to confirm meeting dates\, times\, and details.
URL:https://www.cityofbangormi.org/event/city-council-meeting-2/2026-12-21
LOCATION:Bangor City Hall\, 257 West Monroe Street\, Bangor\, MI\, 49013\, United States
CATEGORIES:City Council Meeting
END:VEVENT
BEGIN:VEVENT
DTSTART;TZID=America/Detroit:20270104T190000
DTEND;TZID=America/Detroit:20270104T190000
DTSTAMP:20260421T051018
CREATED:20240820T194337Z
LAST-MODIFIED:20240820T194732Z
UID:10001199-1799089200-1799089200@www.cityofbangormi.org
SUMMARY:City Council Meeting
DESCRIPTION:The City Council regularly meets the first and third Monday of each month at 7:00 PM Eastern Time in the Council Room at City Hall\, 257 West Monroe Street\, Bangor\, MI 49013. When Monday falls on a legal holiday meetings are moved to the next day. It is important to check the Calendar to confirm meeting dates\, times\, and details.
URL:https://www.cityofbangormi.org/event/city-council-meeting-3/2027-01-04
LOCATION:Bangor City Hall\, 257 West Monroe Street\, Bangor\, MI\, 49013\, United States
CATEGORIES:City Council Meeting
END:VEVENT
END:VCALENDAR