BEGIN:VCALENDAR
VERSION:2.0
PRODID:-//City of Bangor - ECPv6.15.20//NONSGML v1.0//EN
CALSCALE:GREGORIAN
METHOD:PUBLISH
X-WR-CALNAME:City of Bangor
X-ORIGINAL-URL:https://www.cityofbangormi.org
X-WR-CALDESC:Events for City of Bangor
REFRESH-INTERVAL;VALUE=DURATION:PT1H
X-Robots-Tag:noindex
X-PUBLISHED-TTL:PT1H
BEGIN:VTIMEZONE
TZID:America/Detroit
BEGIN:DAYLIGHT
TZOFFSETFROM:-0500
TZOFFSETTO:-0400
TZNAME:EDT
DTSTART:20250309T070000
END:DAYLIGHT
BEGIN:STANDARD
TZOFFSETFROM:-0400
TZOFFSETTO:-0500
TZNAME:EST
DTSTART:20251102T060000
END:STANDARD
BEGIN:DAYLIGHT
TZOFFSETFROM:-0500
TZOFFSETTO:-0400
TZNAME:EDT
DTSTART:20260308T070000
END:DAYLIGHT
BEGIN:STANDARD
TZOFFSETFROM:-0400
TZOFFSETTO:-0500
TZNAME:EST
DTSTART:20261101T060000
END:STANDARD
BEGIN:DAYLIGHT
TZOFFSETFROM:-0500
TZOFFSETTO:-0400
TZNAME:EDT
DTSTART:20270314T070000
END:DAYLIGHT
BEGIN:STANDARD
TZOFFSETFROM:-0400
TZOFFSETTO:-0500
TZNAME:EST
DTSTART:20271107T060000
END:STANDARD
END:VTIMEZONE
BEGIN:VEVENT
DTSTART;TZID=America/Detroit:20260217T180000
DTEND;TZID=America/Detroit:20260217T190000
DTSTAMP:20260420T194708
CREATED:20260211T164637Z
LAST-MODIFIED:20260211T164637Z
UID:10001466-1771351200-1771354800@www.cityofbangormi.org
SUMMARY:Committee of the Whole Meeting of the City Council
DESCRIPTION:Notice of a Committee of the Whole (COTW) Meeting of the City Council \nTuesday\, February 17\, 2026 at 6PM at 257 W Monroe St Bangor\, MI 49013 \nPlease Note: The Regular City Council meeting will immediately follow this meeting at 7PM.
URL:https://www.cityofbangormi.org/event/committee-of-the-whole-meeting-of-the-city-council
CATEGORIES:City Council Meeting
END:VEVENT
BEGIN:VEVENT
DTSTART;TZID=America/Detroit:20260217T190000
DTEND;TZID=America/Detroit:20260217T200000
DTSTAMP:20260420T194708
CREATED:20251204T192032Z
LAST-MODIFIED:20251204T192105Z
UID:10001459-1771354800-1771358400@www.cityofbangormi.org
SUMMARY:City Council Regular Meeting
DESCRIPTION:
URL:https://www.cityofbangormi.org/event/city-council-regular-meeting-3
CATEGORIES:City Council Meeting
END:VEVENT
END:VCALENDAR