BEGIN:VCALENDAR
VERSION:2.0
PRODID:-//City of Bangor - ECPv6.15.20//NONSGML v1.0//EN
CALSCALE:GREGORIAN
METHOD:PUBLISH
X-ORIGINAL-URL:https://www.cityofbangormi.org
X-WR-CALDESC:Events for City of Bangor
REFRESH-INTERVAL;VALUE=DURATION:PT1H
X-Robots-Tag:noindex
X-PUBLISHED-TTL:PT1H
BEGIN:VTIMEZONE
TZID:America/Detroit
BEGIN:DAYLIGHT
TZOFFSETFROM:-0500
TZOFFSETTO:-0400
TZNAME:EDT
DTSTART:20230312T070000
END:DAYLIGHT
BEGIN:STANDARD
TZOFFSETFROM:-0400
TZOFFSETTO:-0500
TZNAME:EST
DTSTART:20231105T060000
END:STANDARD
BEGIN:DAYLIGHT
TZOFFSETFROM:-0500
TZOFFSETTO:-0400
TZNAME:EDT
DTSTART:20240310T070000
END:DAYLIGHT
BEGIN:STANDARD
TZOFFSETFROM:-0400
TZOFFSETTO:-0500
TZNAME:EST
DTSTART:20241103T060000
END:STANDARD
BEGIN:DAYLIGHT
TZOFFSETFROM:-0500
TZOFFSETTO:-0400
TZNAME:EDT
DTSTART:20250309T070000
END:DAYLIGHT
BEGIN:STANDARD
TZOFFSETFROM:-0400
TZOFFSETTO:-0500
TZNAME:EST
DTSTART:20251102T060000
END:STANDARD
END:VTIMEZONE
BEGIN:VEVENT
DTSTART;TZID=America/Detroit:20240502T100000
DTEND;TZID=America/Detroit:20240502T233000
DTSTAMP:20260423T090016
CREATED:20240501T143812Z
LAST-MODIFIED:20240501T143812Z
UID:10001097-1714644000-1714692600@www.cityofbangormi.org
SUMMARY:City Council Budget Workshop
DESCRIPTION:
URL:https://www.cityofbangormi.org/event/city-council-budget-workshop
LOCATION:Bangor City Hall\, 257 West Monroe Street\, Bangor\, MI\, 49013\, United States
CATEGORIES:City Council Meeting
END:VEVENT
BEGIN:VEVENT
DTSTART;TZID=America/Detroit:20240506T190000
DTEND;TZID=America/Detroit:20240506T190000
DTSTAMP:20260423T090016
CREATED:20231004T150914Z
LAST-MODIFIED:20231004T151805Z
UID:10000012-1715022000-1715022000@www.cityofbangormi.org
SUMMARY:City Council Meeting
DESCRIPTION:The City Council regularly meets the first and third Monday of each month at 7:00 PM Eastern Time in the Council Room at City Hall\, 257 West Monroe Street\, Bangor\, MI 49013. When Monday falls on a legal holiday meetings are moved to the next day. It is important to check the Calendar to confirm meeting dates\, times\, and details.
URL:https://www.cityofbangormi.org/event/city-council-meeting/2024-05-06
LOCATION:Bangor City Hall\, 257 West Monroe Street\, Bangor\, MI\, 49013\, United States
CATEGORIES:City Council Meeting
END:VEVENT
BEGIN:VEVENT
DTSTART;TZID=America/Detroit:20240513T100000
DTEND;TZID=America/Detroit:20240513T233000
DTSTAMP:20260423T090016
CREATED:20240502T192012Z
LAST-MODIFIED:20240502T192038Z
UID:10001099-1715594400-1715643000@www.cityofbangormi.org
SUMMARY:City Council Budget Workshop
DESCRIPTION:
URL:https://www.cityofbangormi.org/event/budget-workshop
LOCATION:Bangor City Hall\, 257 West Monroe Street\, Bangor\, MI\, 49013\, United States
CATEGORIES:City Council Meeting
END:VEVENT
BEGIN:VEVENT
DTSTART;TZID=America/Detroit:20240520T190000
DTEND;TZID=America/Detroit:20240520T200000
DTSTAMP:20260423T090016
CREATED:20240105T155431Z
LAST-MODIFIED:20240105T160328Z
UID:10000926-1716231600-1716235200@www.cityofbangormi.org
SUMMARY:City Council Meeting
DESCRIPTION:The City Council regularly meets the first and third Monday of each month at 7:00 PM Eastern Time in the Council Room at City Hall\, 257 West Monroe Street\, Bangor\, MI 49013. When Monday falls on a legal holiday meetings are moved to the next day. It is important to check the Calendar to confirm meeting dates\, times\, and details.
URL:https://www.cityofbangormi.org/event/city-council-meeting-2/2024-05-20
LOCATION:Bangor City Hall\, 257 West Monroe Street\, Bangor\, MI\, 49013\, United States
CATEGORIES:City Council Meeting
END:VEVENT
END:VCALENDAR