BEGIN:VCALENDAR
VERSION:2.0
PRODID:-//City of Bangor - ECPv6.15.20//NONSGML v1.0//EN
CALSCALE:GREGORIAN
METHOD:PUBLISH
X-WR-CALNAME:City of Bangor
X-ORIGINAL-URL:https://www.cityofbangormi.org
X-WR-CALDESC:Events for City of Bangor
REFRESH-INTERVAL;VALUE=DURATION:PT1H
X-Robots-Tag:noindex
X-PUBLISHED-TTL:PT1H
BEGIN:VTIMEZONE
TZID:America/Detroit
BEGIN:DAYLIGHT
TZOFFSETFROM:-0500
TZOFFSETTO:-0400
TZNAME:EDT
DTSTART:20240310T070000
END:DAYLIGHT
BEGIN:STANDARD
TZOFFSETFROM:-0400
TZOFFSETTO:-0500
TZNAME:EST
DTSTART:20241103T060000
END:STANDARD
BEGIN:DAYLIGHT
TZOFFSETFROM:-0500
TZOFFSETTO:-0400
TZNAME:EDT
DTSTART:20250309T070000
END:DAYLIGHT
BEGIN:STANDARD
TZOFFSETFROM:-0400
TZOFFSETTO:-0500
TZNAME:EST
DTSTART:20251102T060000
END:STANDARD
BEGIN:DAYLIGHT
TZOFFSETFROM:-0500
TZOFFSETTO:-0400
TZNAME:EDT
DTSTART:20260308T070000
END:DAYLIGHT
BEGIN:STANDARD
TZOFFSETFROM:-0400
TZOFFSETTO:-0500
TZNAME:EST
DTSTART:20261101T060000
END:STANDARD
END:VTIMEZONE
BEGIN:VEVENT
DTSTART;VALUE=DATE:20250804
DTEND;VALUE=DATE:20250805
DTSTAMP:20260421T134010
CREATED:20250801T140418Z
LAST-MODIFIED:20250801T140435Z
UID:10001311-1754265600-1754351999@www.cityofbangormi.org
SUMMARY:MDOT will be performing chip sealing through Bangor on M-43 (Monroe St)
DESCRIPTION:Heads Up\, Bangor! \n\n\n\nMDOT will be performing chip sealing through Bangor on M-43 (Monroe St) starting Monday\, August 4\, 2025.\n\n\n\n NO PARKING on the street that day — parked cars will slow down the work significantly.\n\n\n\n MDOT plans to complete the chip seal on Monday. Future dates will be scheduled for fog sealing and striping.\n\n\n\n Work will be done one lane at a time with minimal disruptions\, but expect occasional flagging that may back up traffic.\n\n\n\n If possible\, please take an alternate route.\n\n\n\n If you must use Monroe St\, please slow down and drive cautiously.\n\n\n\n Help us spread the word! Share this post so your neighbors and friends are informed. Let’s keep things moving safely and efficiently!
URL:https://www.cityofbangormi.org/event/mdot-will-be-performing-chip-sealing-through-bangor-on-m-43-monroe-st
CATEGORIES:Bangor Events
END:VEVENT
END:VCALENDAR