BEGIN:VCALENDAR
VERSION:2.0
PRODID:-//City of Bangor - ECPv6.15.20//NONSGML v1.0//EN
CALSCALE:GREGORIAN
METHOD:PUBLISH
X-ORIGINAL-URL:https://www.cityofbangormi.org
X-WR-CALDESC:Events for City of Bangor
REFRESH-INTERVAL;VALUE=DURATION:PT1H
X-Robots-Tag:noindex
X-PUBLISHED-TTL:PT1H
BEGIN:VTIMEZONE
TZID:America/Detroit
BEGIN:DAYLIGHT
TZOFFSETFROM:-0500
TZOFFSETTO:-0400
TZNAME:EDT
DTSTART:20240310T070000
END:DAYLIGHT
BEGIN:STANDARD
TZOFFSETFROM:-0400
TZOFFSETTO:-0500
TZNAME:EST
DTSTART:20241103T060000
END:STANDARD
BEGIN:DAYLIGHT
TZOFFSETFROM:-0500
TZOFFSETTO:-0400
TZNAME:EDT
DTSTART:20250309T070000
END:DAYLIGHT
BEGIN:STANDARD
TZOFFSETFROM:-0400
TZOFFSETTO:-0500
TZNAME:EST
DTSTART:20251102T060000
END:STANDARD
BEGIN:DAYLIGHT
TZOFFSETFROM:-0500
TZOFFSETTO:-0400
TZNAME:EDT
DTSTART:20260308T070000
END:DAYLIGHT
BEGIN:STANDARD
TZOFFSETFROM:-0400
TZOFFSETTO:-0500
TZNAME:EST
DTSTART:20261101T060000
END:STANDARD
END:VTIMEZONE
BEGIN:VEVENT
DTSTART;TZID=America/Detroit:20250730T120000
DTEND;TZID=America/Detroit:20250730T140000
DTSTAMP:20260421T145603
CREATED:20250724T134726Z
LAST-MODIFIED:20250724T134726Z
UID:10001308-1753876800-1753884000@www.cityofbangormi.org
SUMMARY:Cone with a Cop!
DESCRIPTION:FREE Vanilla Cone Alert! \n\n\n\nThe Bangor Police Department is teaming up with our local McDonald’s (21 W Monroe St) for a sweet treat! Stop by and enjoy a FREE vanilla cone—on us!\n\n\n\n Come say hi to your local officers\n\n\n\n Grab a cone and cool off\n\n\n\n Date & time — Wednesday\, July 30th from 12 to 2 PM!\n\n\n\nIt’s our way of building community and sharing smiles!
URL:https://www.cityofbangormi.org/event/cone-with-a-cop
CATEGORIES:Bangor Events
END:VEVENT
END:VCALENDAR