BEGIN:VCALENDAR
VERSION:2.0
PRODID:-//City of Bangor - ECPv6.15.20//NONSGML v1.0//EN
CALSCALE:GREGORIAN
METHOD:PUBLISH
X-ORIGINAL-URL:https://www.cityofbangormi.org
X-WR-CALDESC:Events for City of Bangor
REFRESH-INTERVAL;VALUE=DURATION:PT1H
X-Robots-Tag:noindex
X-PUBLISHED-TTL:PT1H
BEGIN:VTIMEZONE
TZID:America/Detroit
BEGIN:DAYLIGHT
TZOFFSETFROM:-0500
TZOFFSETTO:-0400
TZNAME:EDT
DTSTART:20230312T070000
END:DAYLIGHT
BEGIN:STANDARD
TZOFFSETFROM:-0400
TZOFFSETTO:-0500
TZNAME:EST
DTSTART:20231105T060000
END:STANDARD
BEGIN:DAYLIGHT
TZOFFSETFROM:-0500
TZOFFSETTO:-0400
TZNAME:EDT
DTSTART:20240310T070000
END:DAYLIGHT
BEGIN:STANDARD
TZOFFSETFROM:-0400
TZOFFSETTO:-0500
TZNAME:EST
DTSTART:20241103T060000
END:STANDARD
BEGIN:DAYLIGHT
TZOFFSETFROM:-0500
TZOFFSETTO:-0400
TZNAME:EDT
DTSTART:20250309T070000
END:DAYLIGHT
BEGIN:STANDARD
TZOFFSETFROM:-0400
TZOFFSETTO:-0500
TZNAME:EST
DTSTART:20251102T060000
END:STANDARD
END:VTIMEZONE
BEGIN:VEVENT
DTSTART;TZID=America/Detroit:20241219T160000
DTEND;TZID=America/Detroit:20241219T200000
DTSTAMP:20260422T055421
CREATED:20241114T183526Z
LAST-MODIFIED:20241114T183533Z
UID:10001243-1734624000-1734638400@www.cityofbangormi.org
SUMMARY:Meet and Greet Santa Claus - Cookies and Hot Chocolate
DESCRIPTION:Come and see Santa Claus!\n\n\n\nThe City of Bangor invites you to join us at City Hall on Thursday 12/19 from 4 to 8PM to meet Santa Clause. We will have cookies\, hot chocolate and a small gift.
URL:https://www.cityofbangormi.org/event/meet-and-greet-santa-claus-cookies-and-hot-chocolate
CATEGORIES:Bangor Events
END:VEVENT
END:VCALENDAR