BEGIN:VCALENDAR
VERSION:2.0
PRODID:-//City of Bangor - ECPv6.15.20//NONSGML v1.0//EN
CALSCALE:GREGORIAN
METHOD:PUBLISH
X-ORIGINAL-URL:https://www.cityofbangormi.org
X-WR-CALDESC:Events for City of Bangor
REFRESH-INTERVAL;VALUE=DURATION:PT1H
X-Robots-Tag:noindex
X-PUBLISHED-TTL:PT1H
BEGIN:VTIMEZONE
TZID:America/Detroit
BEGIN:DAYLIGHT
TZOFFSETFROM:-0500
TZOFFSETTO:-0400
TZNAME:EDT
DTSTART:20240310T070000
END:DAYLIGHT
BEGIN:STANDARD
TZOFFSETFROM:-0400
TZOFFSETTO:-0500
TZNAME:EST
DTSTART:20241103T060000
END:STANDARD
BEGIN:DAYLIGHT
TZOFFSETFROM:-0500
TZOFFSETTO:-0400
TZNAME:EDT
DTSTART:20250309T070000
END:DAYLIGHT
BEGIN:STANDARD
TZOFFSETFROM:-0400
TZOFFSETTO:-0500
TZNAME:EST
DTSTART:20251102T060000
END:STANDARD
BEGIN:DAYLIGHT
TZOFFSETFROM:-0500
TZOFFSETTO:-0400
TZNAME:EDT
DTSTART:20260308T070000
END:DAYLIGHT
BEGIN:STANDARD
TZOFFSETFROM:-0400
TZOFFSETTO:-0500
TZNAME:EST
DTSTART:20261101T060000
END:STANDARD
END:VTIMEZONE
BEGIN:VEVENT
DTSTART;TZID=America/Detroit:20250218T190000
DTEND;TZID=America/Detroit:20250218T200000
DTSTAMP:20260421T151552
CREATED:20240105T160000Z
LAST-MODIFIED:20240105T160000Z
UID:10001352-1739905200-1739908800@www.cityofbangormi.org
SUMMARY:Bangor DDA Meeting
DESCRIPTION:
URL:https://www.cityofbangormi.org/event/bangor-dda-meeting-2-2/2025-02-18
LOCATION:Bangor City Hall\, 257 West Monroe Street\, Bangor\, MI\, 49013\, United States
CATEGORIES:DDA Meeting
END:VEVENT
BEGIN:VEVENT
DTSTART;TZID=America/Detroit:20250218T190000
DTEND;TZID=America/Detroit:20250218T203000
DTSTAMP:20260421T151552
CREATED:20250128T214303Z
LAST-MODIFIED:20250128T214303Z
UID:10001254-1739905200-1739910600@www.cityofbangormi.org
SUMMARY:Regular City Council Meeting
DESCRIPTION:
URL:https://www.cityofbangormi.org/event/regular-city-council-meeting-4
CATEGORIES:City Council Meeting
END:VEVENT
END:VCALENDAR