BEGIN:VCALENDAR
VERSION:2.0
PRODID:-//City of Bangor - ECPv6.15.20//NONSGML v1.0//EN
CALSCALE:GREGORIAN
METHOD:PUBLISH
X-WR-CALNAME:City of Bangor
X-ORIGINAL-URL:https://www.cityofbangormi.org
X-WR-CALDESC:Events for City of Bangor
REFRESH-INTERVAL;VALUE=DURATION:PT1H
X-Robots-Tag:noindex
X-PUBLISHED-TTL:PT1H
BEGIN:VTIMEZONE
TZID:America/Detroit
BEGIN:DAYLIGHT
TZOFFSETFROM:-0500
TZOFFSETTO:-0400
TZNAME:EDT
DTSTART:20230312T070000
END:DAYLIGHT
BEGIN:STANDARD
TZOFFSETFROM:-0400
TZOFFSETTO:-0500
TZNAME:EST
DTSTART:20231105T060000
END:STANDARD
BEGIN:DAYLIGHT
TZOFFSETFROM:-0500
TZOFFSETTO:-0400
TZNAME:EDT
DTSTART:20240310T070000
END:DAYLIGHT
BEGIN:STANDARD
TZOFFSETFROM:-0400
TZOFFSETTO:-0500
TZNAME:EST
DTSTART:20241103T060000
END:STANDARD
BEGIN:DAYLIGHT
TZOFFSETFROM:-0500
TZOFFSETTO:-0400
TZNAME:EDT
DTSTART:20250309T070000
END:DAYLIGHT
BEGIN:STANDARD
TZOFFSETFROM:-0400
TZOFFSETTO:-0500
TZNAME:EST
DTSTART:20251102T060000
END:STANDARD
END:VTIMEZONE
BEGIN:VEVENT
DTSTART;TZID=America/Detroit:20241207T170000
DTEND;TZID=America/Detroit:20241207T190000
DTSTAMP:20260421T235830
CREATED:20241114T174846Z
LAST-MODIFIED:20241114T183349Z
UID:10001242-1733590800-1733598000@www.cityofbangormi.org
SUMMARY:2024 Christmas Parade
DESCRIPTION:Line up 5PM\, Parade starts at 6PM \n\nForms to be in the parade are available at Bangor City Hall and Bangor Middle School // Forms may be brought back to either location\n\nParade Questions: Call Nancy Houdek 269-903-5590\n\n\n\nWindow painting contest: Call Blaca Hinojosa at 269-539-7994 to sign up
URL:https://www.cityofbangormi.org/event/2024-christmas-parade
CATEGORIES:Bangor Events
END:VEVENT
END:VCALENDAR