BEGIN:VCALENDAR
VERSION:2.0
PRODID:-//City of Bangor - ECPv6.15.20//NONSGML v1.0//EN
CALSCALE:GREGORIAN
METHOD:PUBLISH
X-ORIGINAL-URL:https://www.cityofbangormi.org
X-WR-CALDESC:Events for City of Bangor
REFRESH-INTERVAL;VALUE=DURATION:PT1H
X-Robots-Tag:noindex
X-PUBLISHED-TTL:PT1H
BEGIN:VTIMEZONE
TZID:America/Detroit
BEGIN:DAYLIGHT
TZOFFSETFROM:-0500
TZOFFSETTO:-0400
TZNAME:EDT
DTSTART:20230312T070000
END:DAYLIGHT
BEGIN:STANDARD
TZOFFSETFROM:-0400
TZOFFSETTO:-0500
TZNAME:EST
DTSTART:20231105T060000
END:STANDARD
BEGIN:DAYLIGHT
TZOFFSETFROM:-0500
TZOFFSETTO:-0400
TZNAME:EDT
DTSTART:20240310T070000
END:DAYLIGHT
BEGIN:STANDARD
TZOFFSETFROM:-0400
TZOFFSETTO:-0500
TZNAME:EST
DTSTART:20241103T060000
END:STANDARD
BEGIN:DAYLIGHT
TZOFFSETFROM:-0500
TZOFFSETTO:-0400
TZNAME:EDT
DTSTART:20250309T070000
END:DAYLIGHT
BEGIN:STANDARD
TZOFFSETFROM:-0400
TZOFFSETTO:-0500
TZNAME:EST
DTSTART:20251102T060000
END:STANDARD
END:VTIMEZONE
BEGIN:VEVENT
DTSTART;TZID=America/Detroit:20240330T110000
DTEND;TZID=America/Detroit:20240330T120000
DTSTAMP:20260422T131534
CREATED:20240312T154020Z
LAST-MODIFIED:20240312T154020Z
UID:10001088-1711796400-1711800000@www.cityofbangormi.org
SUMMARY:Bunny Hop - Bangor Lions Club
DESCRIPTION:Bangor Lions Club \nBunny Hop \nSaturday\, March 30th 11AM-Noon \nBangor High School Viking Stadium \nGuest of Honor – The Easter Bunny with Special Guests: Miss Blossomtime Lauren Vegter\, 2nd Runner Up to Mr. Blossomtime Nolan Crandall\, Miss Bangor Angelina Castillo & 2024 Bangor Court of Honor \nPlay Games\, Win Prizes\, Raffle Drawing at 11:45 AM\, Enjoy a Treat
URL:https://www.cityofbangormi.org/event/bunny-hop-bangor-lions-club
LOCATION:Bangor High School\, 801 W. Arlington Street\, Bangor\, MI\, 49013\, United States
CATEGORIES:Bangor Events
END:VEVENT
END:VCALENDAR