BEGIN:VCALENDAR
VERSION:2.0
PRODID:-//City of Bangor - ECPv6.15.20//NONSGML v1.0//EN
CALSCALE:GREGORIAN
METHOD:PUBLISH
X-WR-CALNAME:City of Bangor
X-ORIGINAL-URL:https://www.cityofbangormi.org
X-WR-CALDESC:Events for City of Bangor
REFRESH-INTERVAL;VALUE=DURATION:PT1H
X-Robots-Tag:noindex
X-PUBLISHED-TTL:PT1H
BEGIN:VTIMEZONE
TZID:America/Detroit
BEGIN:DAYLIGHT
TZOFFSETFROM:-0500
TZOFFSETTO:-0400
TZNAME:EDT
DTSTART:20230312T070000
END:DAYLIGHT
BEGIN:STANDARD
TZOFFSETFROM:-0400
TZOFFSETTO:-0500
TZNAME:EST
DTSTART:20231105T060000
END:STANDARD
BEGIN:DAYLIGHT
TZOFFSETFROM:-0500
TZOFFSETTO:-0400
TZNAME:EDT
DTSTART:20240310T070000
END:DAYLIGHT
BEGIN:STANDARD
TZOFFSETFROM:-0400
TZOFFSETTO:-0500
TZNAME:EST
DTSTART:20241103T060000
END:STANDARD
BEGIN:DAYLIGHT
TZOFFSETFROM:-0500
TZOFFSETTO:-0400
TZNAME:EDT
DTSTART:20250309T070000
END:DAYLIGHT
BEGIN:STANDARD
TZOFFSETFROM:-0400
TZOFFSETTO:-0500
TZNAME:EST
DTSTART:20251102T060000
END:STANDARD
END:VTIMEZONE
BEGIN:VEVENT
DTSTART;TZID=America/Detroit:20240112T120000
DTEND;TZID=America/Detroit:20240112T160000
DTSTAMP:20260422T194647
CREATED:20240112T135015Z
LAST-MODIFIED:20240112T135015Z
UID:10001021-1705060800-1705075200@www.cityofbangormi.org
SUMMARY:Weather Closure
DESCRIPTION:Due to the forecast for severe weather in our area beginning in the afternoon\, Bangor Municipal Offices will be closing today\, January 12th at 12pm. The National Weather Service is communicating a high likelihood of harsh weather conditions in the later part of the day that will severely impact travel. Offices will be closed Monday\, January 15th\, in observance of Martin Luther King Day. Offices will reopen Tuesday\, January 16th.
URL:https://www.cityofbangormi.org/event/weather-closure
CATEGORIES:City Hall - Observed Days Off
END:VEVENT
END:VCALENDAR