BEGIN:VCALENDAR
VERSION:2.0
PRODID:-//City of Bangor - ECPv6.15.20//NONSGML v1.0//EN
CALSCALE:GREGORIAN
METHOD:PUBLISH
X-ORIGINAL-URL:https://www.cityofbangormi.org
X-WR-CALDESC:Events for City of Bangor
REFRESH-INTERVAL;VALUE=DURATION:PT1H
X-Robots-Tag:noindex
X-PUBLISHED-TTL:PT1H
BEGIN:VTIMEZONE
TZID:America/Detroit
BEGIN:DAYLIGHT
TZOFFSETFROM:-0500
TZOFFSETTO:-0400
TZNAME:EDT
DTSTART:20220313T070000
END:DAYLIGHT
BEGIN:STANDARD
TZOFFSETFROM:-0400
TZOFFSETTO:-0500
TZNAME:EST
DTSTART:20221106T060000
END:STANDARD
BEGIN:DAYLIGHT
TZOFFSETFROM:-0500
TZOFFSETTO:-0400
TZNAME:EDT
DTSTART:20230312T070000
END:DAYLIGHT
BEGIN:STANDARD
TZOFFSETFROM:-0400
TZOFFSETTO:-0500
TZNAME:EST
DTSTART:20231105T060000
END:STANDARD
BEGIN:DAYLIGHT
TZOFFSETFROM:-0500
TZOFFSETTO:-0400
TZNAME:EDT
DTSTART:20240310T070000
END:DAYLIGHT
BEGIN:STANDARD
TZOFFSETFROM:-0400
TZOFFSETTO:-0500
TZNAME:EST
DTSTART:20241103T060000
END:STANDARD
END:VTIMEZONE
BEGIN:VEVENT
DTSTART;TZID=America/Detroit:20231127T080000
DTEND;TZID=America/Detroit:20231222T180000
DTSTAMP:20260422T220201
CREATED:20231127T200235Z
LAST-MODIFIED:20231127T200501Z
UID:10000396-1701072000-1703268000@www.cityofbangormi.org
SUMMARY:Vote for Your Favorite Tree
DESCRIPTION:Watch for the Christmas trees at Charles Park (Caboose) to be decorated by South Walnut Elementary Students. Once they are decorated you can vote for your favorite tree at any of these locations: Hometown Pharmacy\, Sturgis Bank\, Hardings\, or City Hall. Voting begins on Monday\, 11/27 until Friday\, 12/22.
URL:https://www.cityofbangormi.org/event/vote-for-your-favorite-tree
CATEGORIES:Bangor Events,General Events
END:VEVENT
BEGIN:VEVENT
DTSTART;TZID=America/Detroit:20231129T123000
DTEND;TZID=America/Detroit:20231129T140000
DTSTAMP:20260422T220201
CREATED:20231005T142805Z
LAST-MODIFIED:20231005T142926Z
UID:10000191-1701261000-1701266400@www.cityofbangormi.org
SUMMARY:Bangor Senior Luncheon
DESCRIPTION:The senior luncheon schedule for the 2023-24 school year is now available. \nBPS provides a free lunch for any senior citizen aged 62 years and up\, residing within the Bangor School District. \nCome out and have a good meal\, enjoy student entertainment\, and hear updates about great things happening at Bangor Public Schools!
URL:https://www.cityofbangormi.org/event/bangor-senior-luncheon/2023-11-29
LOCATION:Bangor High School\, 801 W. Arlington Street\, Bangor\, MI\, 49013\, United States
CATEGORIES:Bangor Events
END:VEVENT
END:VCALENDAR